Workbook
Name ACTION_FRACTION: #REF!
Name Cost_Scenario: #REF!
Name County: #REF!
Name Countylookup: #REF!
Name Discount_Rate: #REF!
Name Elec_EndUse: #REF!
Name Elec_GWh: #REF!
Name Elec_GWh_17: #REF!
Name Elec_GWh_28: #REF!
Name Elec_GWh_46: #REF!
Name ELEC_Par_17: #REF!
Name ELEC_Par_28: #REF!
Name ELEC_Par_46: #REF!
Name ELEC_Par_EI_17: #REF!
Name ELEC_Par_EI_28: #REF!
Name ELEC_Par_EI_46: #REF!
Name Electric: #REF!
Name Electric: #REF!
Name Electric_only: #REF!
Name Electric_only: #REF!
Name Electricity_Escalation_Rate: #REF!
Name Gas_EndUse: #REF!
Name Gas_MMTherm: #REF!
Name Gas_MMTherm_17: #REF!
Name Gas_MMTherm_28: #REF!
Name Gas_MMTherm_46: #REF!
Name GAS_Par_17: #REF!
Name GAS_Par_28: #REF!
Name GAS_Par_46: #REF!
Name GAS_Par_EI_17: #REF!
Name GAS_Par_EI_28: #REF!
Name GAS_Par_EI_46: #REF!
Name Global_IEPR: #REF!
Name Indy_GSP: #REF!
Name Interest_Rate: #REF!
Name Leverage: #REF!
Name Loan_Term: #REF!
Name Match_Elec_EndUse: #REF!
Name Match_Elec_GWh: #REF!
Name Match_Gas_EndUse: #REF!
Name Match_Gas_MMTherm: #REF!
Name Match_Indy_GSP: #REF!
Name MDATable1: #REF!
Name MDATable2: #REF!
Name Net_Project_Cost: #REF!
Name Nominal_Payback_Period: #REF!
Name NResSavTable: #REF!
Name P5_: #REF!
Name PA_NAME: #REF!
Name PA_NAME: #REF!
Name ResSavTable1: #REF!
Name ResSavTable2: #REF!
Name RPT_YEAR: #REF!
Name RPT_YEAR: #REF!
Name Savings_Degredation_Rate: #REF!
Name SCGAggEnd: #REF!
Name SCGAggEnd: #REF!
Name SCGMktSector: #REF!
Name SCGMktSector: #REF!
Name SCGPgmSum: #REF!

Sheet Read Me
B2: California Public Utilities Commission
B3: Business Plan Application Template
B7: Updated: | C7: July, 2025 | F7: WORKBOOK DROPDOWN MENU CONTROL
B9: General Instructions for Completing the Tables: | F9: Target Exempt | G9: PA | H9: Program Implementer | I9: Sector | J9: Program Category | K9: Program Segment | L9: Program Changes Reason
B10: SDG&E | C10: Input your PA name here. This will appear on all tabs. | F10: Yes | G10: PG&E | H10: IOU Core | I10: Residential | J10: Emerging Tech | K10: Resource Acquisition | L10: Programs to be closed with the disposition of 2028-2035 EE Application
B11: 2028-2035 | C11: Input your reference years here. This will appear on all tabs | F11: No | G11: SCE | H11: Third Party | I11: Commercial | J11: WE&T | K11: Market Support | L11: Programs to be closed upon completion of commitments
C12: All currency will be reported to the dollar, i.e., $0. | G12: SoCalGas | H12: REN/CCA | I12: Industrial | J12: Financing | K12: Equity | L12: Programs with reduced budgets (>40% budget decrease)
C13: Follow the legend to guide the input of various data requirements. | G13: SDG&E | I13: Agricultural | J13: Market Transformation | K13: Codes & Standards | L13: Programs with enhanced budgets (>40% budget increase)
C14: When adding rows, ensure all formulas are copied. | G14: BayRen | I14: Public | J14: Other | K14: EM&V | L14: Programs that are new in 2028 or beyond
C15: All tables totals should be recalculated to ensure footing/cross footing accuracy. | I15: Cross Cutting | J15: New Construction | L15: Programs with Third-Party Contracts that Sunset in 2028-2031
C16: Be mindful of print area to ensure footnotes are included when added. | I16: Portfolio Support | J16: Marketing Education & Outreach
C17: Review the legend at the bottom of the the Read Me. | J17: Energy Savings Assistance
J18: Codes & Standards
B19: Description | J19: EM&V
B20: This workbook supports the development and submission of CPUC Business Plan Application by providing a standardized template for organizing key programmatic, budgetary, and analytical information. Each Tab plans a specific role in collecting, processing, and summarizing relevant data to meet submission and regulatory requirements.
B22: Workbook Tab Definitions
B23: Function Definitions | C23: This tab provides a detailed breakdown of functional categories and definitions used to allocate and report energy efficiency program costs across planning, implementation, compliance, engineering, analytics, marketing, IT, and incentive functions.
B24: 0 Validations | C24: Provides a summary of key budget, revenue requirement, and cost category comparisons across the workbook, highlighting differences to ensure consistency between spending requests, cost recovery, and functional allocations.
B25: 1 Participant Bill Impacts | C25: Calculates estimated average annual and lifecycle bill savings for participating customers by applying electric and gas rates to forecasted program energy savings.
B26: 2 Rate Impacts | C26: Presents the projected changes in electric and gas revenues, rates, and the energy efficiency portion of rates by customer class, illustrating the impact of proposed energy efficiency investments on utility bills.
B27: 3.1 Funding Category | C27: Summarizes funding sources and budget allocations for electric and gas programs, including procurement and revenue requirements, across various program administrators and utilities.
B28: 3.2 Funding - CCA_REN only | C28: Tracks annual electric and gas energy efficiency funds allocated by IOUs to RENs and CCAs from 2028–2035.
B29: 4.1 Program Budget 2028-2031 | C29: Outlines portfolio budget requests, spending, unspent and carryover balances, and cost components for your utility energy efficiency portfolio, including EM&V, ME&O, ESA, and financing pilots.
B30: 4.2 Sector Seg Budget 2032-2035 | C30: Details annual budget requests, energy savings, and emissions impacts by sector and program segment to support portfolio planning from 2028–2035.
B31: 4.3 TSB and C&S Budget 2032-2035 | C31: Compares business plan forecasts to CPUC goals for 2028–2035, including Total System Benefit and energy savings metrics for incentive programs and codes & standards.
B32: Budget Filing Data | C32: Contains raw budget filing data from CEDARS and CET grouped by Year, PA, Program ID, Program Name, Program Group, Primary Sector, Statewide Program, Program Category, Program Implementer, Filing Year Quarter, Program Segment and Program Status. Also includes calculations of interim steps related to cost-effectiveness metrics.
B33: 6 Statewide Programs | C33: Outlines statewide energy efficiency programs, including total contract budgets, proportional funding contributions, and administrative costs allocated across IOUs based on electric and gas load shares.
B34: 7 PA PY Budget | C34: Summarizes annual cost recovery requests (2028–2031) for IOUs, RENs, and CCAs, including EM&V, oversight, and offsets from unspent funds.
... B38: 11 Program Cards | C38: Flat file version of the program card tables in the narrative. Pas can use this template to populate the narrative.
B40: Legend
B41: Solid Gray, black font | C41: This cell style indicates a formula that should not be edited by the user.
B42: Solid Blue, blue font | C42: This cell style indicates a data input cell that should be edited by the user.
B43: Solid Gold, black font | C43: This cell style indicates the cell is a header/footer, no data input cell.
B44: Solid Green, black font | C44: This cell style indicates the aggregated data could come from record level budget filing (posted in CEDARS) or from the aggregated data described in the "Raw Budget Filing Data" tab.

Sheet Function Definitions
B2: Description | C2: This tab provides a detailed breakdown of functional categories and definitions used to allocate and report energy efficiency program costs across planning, implementation, compliance, engineering, analytics, marketing, IT, and incentive functions.
B4: Instructions | C4: Review table to familiarize yourself with functions definitions.
B6: PA Name: | C6: ='Read Me'!B10 -> SDG&E
B7: Budget Year: | C7: ='Read Me'!B11 -> 2028-2035
B9: FUNCTION DEFINITIONS
B10: Aggregated Category | C10: Definition | D10: Functional Category | E10: Detailed Definition
B11: Policy, Strategy, and Regulatory Reporting Compliance | C11: Includes policy, strategy, compliance, audits and regulatory support | D11: Planning & Compliance | E11: DSM Goal Planning; lead legislative review/positioning; policy support on reg proceedings; portfolio optimization; end use-market strategy; DSM lead for PRP, DRP, ES; locational targeting; audit support; SOX certifications; developing control plans; developing action plans; continuous monitoring; inspections; program/product QA/QC; decision compliance oversight/tracking; data requests; policies & procedures
D12: Company Regulatory Support | E12: Case management for EE proceedings
B13: Program management | C13: Includes labor, contracts, admin costs for program design, program implementation, product and channel management for all sectors | D13: Program Management & Delivery | E13: Market Segment & Locational Resource programs; Business Core & Finance Programs; Large Power DR Programs; Non-Res HVAC & Technical Services; Program Integration & Optimization; Residential EE & DR Programs (incl. Res HVAC QI); IQP & Economic Assistance Programs; Mass Market DR Programs; Education & Information Products & Services; Energy Leader Partnerships; Institutional & Federal Partnerships; REN Coordination; Strategic Plan Support; Energy/Water Program Mgt; Service Level Agreement Tracking
D14: Product Management | E14: Manage end-to-end new products and services (P&S) intake, evaluation, and launch process; develop and facilitate P&S governance teams, coordination of all sub-process owners, stakeholders, and technical resources required to evaluate and launch new products; evaluate and launch new services and OOR opportunities; develop external partnerships & strategic alliances; work with various companies and associations to help advance standards, products, and tech.; work with external experts to help reduce SCE costs to deliver new prog. and products; develop and launch new customer technologies, products, services for residential and business customers; conduct customer pilots of new technologies and programs; lead customer field demonstrations of new technologies and products; align new P&S to savings programs/incentives; develop new programs/incentives in support of savings goals
D15: Channel Management
D16: Contract Management | E16: Budget forecasting, spend tracking, invoice processing, and contract management with vendors and suppliers; Regulatory support for ME&O activities
B17: Engineering Services | C17: Includes engineering, project management, and contracts associated with workpaper development and pre/post sales project technical reviews and design assistance | D17: Custom project support | E17: Management of Emerging Products projects; Customized reviews; LCR/RFO support; Ex-ante review management; Technical policy support; Technical assessments; Workpapers; Tool development; End use subject matter expertise
D18: Deemed workpapers
D19: Project management
B20: Customer Application/Rebate and Incentive Processing | C20: Costs associated with application management and rebate and incentive processing (deemed and custom) | D20: Rebate & Application Processing
B21: Inspections | C21: Costs associated with project inspections | D21: Inspections
B22: Portfolio Analytics | C22: Includes analytics support, including internal performance reporting and external reporting | D22: Data analytics | E22: Data development for programs, products and services; Standard and ad hoc data extracts for internal and external clients ; Database management; CPUC, CAISO reporting; Data reconciliation; E3 support ; Compliance filing support; Funding Oversight; ESPI support; Program Results Data & Performance
B24: EM&V | C24: EM&V expenditures | D24: EM&V Studies | E24: Program and product review; manage evaluation studies
D25: EM&V Forecasting | E25: EE lead for LTPP and IEPR; market potential study; integration w/ procurement planning; CPUC Demand Analysis Working Group
B26: ME&O | C26: Costs associated with utility EE marketing; no statewide; focus on outsourced portion | D26: Marketing | E26: Customer Programs, Products, and Services Marketing; Digital Product Development; Digital Content & Optimization
D27: Customer insights | E27: Voice of the Customer; Customer satisfaction study measurement and analysis (JD Power, SDS); Customer testing/research
B28: Account Management / Sales | C28: Costs associated with account rep energy efficiency sales functions | D28: Account Management
B29: IT | C29: IT project specific costs and regular O&M | D29: IT - project specific | E29: Projects and minor enhancements. Includes project management/business integration ("PMO/BID"). Excluded: maintenance (which SCE defines as when something goes down, normal batch processing, verifying interfaces, etc.).
D30: IT - regular O&M
B31: Call Center | C31: Costs associated with call center staff fielding EE program questions | D31: Call Center
B32: Incentives | C32: Costs of rebate and incentive payments to customers | D32: Incentives

Sheet 0 Validations
B2: Description | C2: Provides a summary of key budget, revenue requirement, and cost category comparisons across the workbook, highlighting differences to ensure consistency between spending requests, cost recovery, and functional allocations.
B4: Instructions | C4: No entry required. Review summary tables after completing workbook.
B6: PA Name: | C6: ='Read Me'!B10 -> SDG&E
B7: Budget Year: | C7: ='Read Me'!B11 -> 2028-2035
C9: Spending Budget Comparison [1] | D9: 2028 | E9: =+D9+1 -> 2029 | F9: =+E9+1 -> 2030 | G9: =+F9+1 -> 2031 | H9: =+G9+1 -> 2032 | I9: =+H9+1 -> 2033 | J9: =+I9+1 -> 2034 | K9: =+J9+1 -> 2035
C10: Tab 3.1 - PA Spending Budget Request (PA Program and EM&V) | D10: =SUMIFS('3.1 Funding Category'!$D$10:$D$97, '3.1 Funding Category'!$C$10:$C$97, '3.1 Funding Category'!$C$10, '3.1 Funding Category'!$B$10:$B$97, '0 Validations'!D9)+ SUMIFS('3.1 Funding Category'!$D$10:$D$97, '3.1 Funding Category'!$C$10:$C$97, '3.1 Funding Category'!$C$18, '3.1 Funding Category'!$B$10:$B$97, '0 Validations'!D9) -> 68428098 | E10: =SUMIFS('3.1 Funding Category'!$D$10:$D$97, '3.1 Funding Category'!$C$10:$C$97, '3.1 Funding Category'!$C$10, '3.1 Funding Category'!$B$10:$B$97, '0 Validations'!E9)+ SUMIFS('3.1 Funding Category'!$D$10:$D$97, '3.1 Funding Category'!$C$10:$C$97, '3.1 Funding Category'!$C$18, '3.1 Funding Category'!$B$10:$B$97, '0 Validations'!E9) -> 67760602 | F10: =SUMIFS('3.1 Funding Category'!$D$10:$D$97, '3.1 Funding Category'!$C$10:$C$97, '3.1 Funding Category'!$C$10, '3.1 Funding Category'!$B$10:$B$97, '0 Validations'!F9)+ SUMIFS('3.1 Funding Category'!$D$10:$D$97, '3.1 Funding Category'!$C$10:$C$97, '3.1 Funding Category'!$C$18, '3.1 Funding Category'!$B$10:$B$97, '0 Validations'!F9) -> 68776560 | G10: =SUMIFS('3.1 Funding Category'!$D$10:$D$97, '3.1 Funding Category'!$C$10:$C$97, '3.1 Funding Category'!$C$10, '3.1 Funding Category'!$B$10:$B$97, '0 Validations'!G9)+ SUMIFS('3.1 Funding Category'!$D$10:$D$97, '3.1 Funding Category'!$C$10:$C$97, '3.1 Funding Category'!$C$18, '3.1 Funding Category'!$B$10:$B$97, '0 Validations'!G9) -> 71832337 | H10: =SUMIFS('3.1 Funding Category'!$D$10:$D$97, '3.1 Funding Category'!$C$10:$C$97, '3.1 Funding Category'!$C$10, '3.1 Funding Category'!$B$10:$B$97, '0 Validations'!H9)+ SUMIFS('3.1 Funding Category'!$D$10:$D$97, '3.1 Funding Category'!$C$10:$C$97, '3.1 Funding Category'!$C$18, '3.1 Funding Category'!$B$10:$B$97, '0 Validations'!H9) -> 71832337 | I10: =SUMIFS('3.1 Funding Category'!$D$10:$D$97, '3.1 Funding Category'!$C$10:$C$97, '3.1 Funding Category'!$C$10, '3.1 Funding Category'!$B$10:$B$97, '0 Validations'!I9)+ SUMIFS('3.1 Funding Category'!$D$10:$D$97, '3.1 Funding Category'!$C$10:$C$97, '3.1 Funding Category'!$C$18, '3.1 Funding Category'!$B$10:$B$97, '0 Validations'!I9) -> 71832337 | J10: =SUMIFS('3.1 Funding Category'!$D$10:$D$97, '3.1 Funding Category'!$C$10:$C$97, '3.1 Funding Category'!$C$10, '3.1 Funding Category'!$B$10:$B$97, '0 Validations'!J9)+ SUMIFS('3.1 Funding Category'!$D$10:$D$97, '3.1 Funding Category'!$C$10:$C$97, '3.1 Funding Category'!$C$18, '3.1 Funding Category'!$B$10:$B$97, '0 Validations'!J9) -> 71832337 | K10: =SUMIFS('3.1 Funding Category'!$D$10:$D$97, '3.1 Funding Category'!$C$10:$C$97, '3.1 Funding Category'!$C$10, '3.1 Funding Category'!$B$10:$B$97, '0 Validations'!K9)+ SUMIFS('3.1 Funding Category'!$D$10:$D$97, '3.1 Funding Category'!$C$10:$C$97, '3.1 Funding Category'!$C$18, '3.1 Funding Category'!$B$10:$B$97, '0 Validations'!K9) -> 71832337
C11: Tab 4.1 & 4.2 - PA Spending Budget Request (PA Program and EM&V) | D11: =SUMIFS('4.1 Program Budget 2028-2031'!$N$16:$N$303, '4.1 Program Budget 2028-2031'!$M$16:$M$303, '0 Validations'!D9) -> 68428098 | E11: =SUMIFS('4.1 Program Budget 2028-2031'!$N$16:$N$303, '4.1 Program Budget 2028-2031'!$M$16:$M$303, '0 Validations'!E9) -> 67760602 | F11: =SUMIFS('4.1 Program Budget 2028-2031'!$N$16:$N$303, '4.1 Program Budget 2028-2031'!$M$16:$M$303, '0 Validations'!F9) -> 68776560 | G11: =SUMIFS('4.1 Program Budget 2028-2031'!$N$16:$N$303, '4.1 Program Budget 2028-2031'!$M$16:$M$303, '0 Validations'!G9) -> 71832337 | H11: =SUMIFS('4.2 Sector Seg Budget 2032-2035'!$F$13:$F$108, '4.2 Sector Seg Budget 2032-2035'!$E$13:$E$108, '0 Validations'!H9) -> 71832337 | I11: =SUMIFS('4.2 Sector Seg Budget 2032-2035'!$F$13:$F$108, '4.2 Sector Seg Budget 2032-2035'!$E$13:$E$108, '0 Validations'!I9) -> 71832337 | J11: =SUMIFS('4.2 Sector Seg Budget 2032-2035'!$F$13:$F$108, '4.2 Sector Seg Budget 2032-2035'!$E$13:$E$108, '0 Validations'!J9) -> 71832337 | K11: =SUMIFS('4.2 Sector Seg Budget 2032-2035'!$F$13:$F$108, '4.2 Sector Seg Budget 2032-2035'!$E$13:$E$108, '0 Validations'!K9) -> 71832337
C12: Tab 7 - PA Spending Budget Request (PA Program and EM&V) | D12: =SUMIFS('7 PA PY Budget'!$J$9:$J$60, '7 PA PY Budget'!$D$9:$D$60, '0 Validations'!$C$6, '7 PA PY Budget'!$C$9:$C$60, '0 Validations'!D9)-'7 PA PY Budget'!F9 -> 68428098 | E12: =SUMIFS('7 PA PY Budget'!$J$9:$J$60, '7 PA PY Budget'!$D$9:$D$60, '0 Validations'!$C$6, '7 PA PY Budget'!$C$9:$C$60, '0 Validations'!E9)-'7 PA PY Budget'!F22 -> 67760602 | F12: =SUMIFS('7 PA PY Budget'!$J$9:$J$60, '7 PA PY Budget'!$D$9:$D$60, '0 Validations'!$C$6, '7 PA PY Budget'!$C$9:$C$60, '0 Validations'!F9)-'7 PA PY Budget'!F35 -> 68776560 | G12: =SUMIFS('7 PA PY Budget'!$J$9:$J$60, '7 PA PY Budget'!$D$9:$D$60, '0 Validations'!$C$6, '7 PA PY Budget'!$C$9:$C$60, '0 Validations'!G9)-'7 PA PY Budget'!F48 -> 71832337
C13: Tab 8 - PA Spending Budget Request (PA Program and EM&V) | D13: =SUMIFS('8 Cap & Target '!$G$32:$G$111, '8 Cap & Target '!$D$32:$D$111, '8 Cap & Target '!$D$47, '8 Cap & Target '!$B$32:$B$111, D9) -> 68428098 | E13: =SUMIFS('8 Cap & Target '!$G$32:$G$111, '8 Cap & Target '!$D$32:$D$111, '8 Cap & Target '!$D$47, '8 Cap & Target '!$B$32:$B$111, E9) -> 67760602 | F13: =SUMIFS('8 Cap & Target '!$G$32:$G$111, '8 Cap & Target '!$D$32:$D$111, '8 Cap & Target '!$D$47, '8 Cap & Target '!$B$32:$B$111, F9) -> 68776560 | G13: =SUMIFS('8 Cap & Target '!$G$32:$G$111, '8 Cap & Target '!$D$32:$D$111, '8 Cap & Target '!$D$47, '8 Cap & Target '!$B$32:$B$111, G9) -> 71832337
C14: Tab 9 - PA Spending Budget Request (PA Program and EM&V) | D14: ='9 Portfolio FTE and Budget'!E52 -> 68428098 | E14: ='9 Portfolio FTE and Budget'!F52 -> 67760602 | F14: ='9 Portfolio FTE and Budget'!G52 -> 68776560 | G14: ='9 Portfolio FTE and Budget'!H52 -> 71832337
C15: Difference | D15: =IF(AND(D10=D11,D12=D13,D14=D13,D12=D11,D10=D14,D11=D13)=TRUE,0,"ERROR") -> 0 | E15: =IF(AND(E10=E11,E12=E13,E14=E13,E12=E11,E10=E14,E11=E13)=TRUE,0,"ERROR") -> 0 | F15: =IF(AND(F10=F11,F12=F13,F14=F13,F12=F11,F10=F14,F11=F13)=TRUE,0,"ERROR") -> 0 | G15: =IF(AND(G10=G11,G12=G13,G14=G13,G12=G11,G10=G14,G11=G13)=TRUE,0,"ERROR") -> 0 | H15: =IF(AND(H10=H11)=TRUE,0,"ERROR") -> 0 | I15: =IF(AND(I10=I11)=TRUE,0,"ERROR") -> 0 | J15: =IF(AND(J10=J11)=TRUE,0,"ERROR") -> 0 | K15: =IF(AND(K10=K11)=TRUE,0,"ERROR") -> 0
C17: Revenue Requirement or Cost Recovery Comparison | D17: =LEFT($C$7,4) -> 2028 | E17: =+D17+1 -> 2029 | F17: =+E17+1 -> 2030 | G17: =+F17+1 -> 2031 | H17: =+G17+1 -> 2032 | I17: =+H17+1 -> 2033 | J17: =+I17+1 -> 2034 | K17: =+J17+1 -> 2035
C18: Tab 3.1 - PA Revenue Requirement Request (Cost Recovery) | D18: ='3.1 Funding Category'!$D90 -> 1.0974712e+08 | E18: ='3.1 Funding Category'!$D91 -> 1.1072842e+08 | F18: ='3.1 Funding Category'!$D92 -> 1.1345911e+08 | G18: ='3.1 Funding Category'!$D93 -> 1.1829823e+08 | H18: ='3.1 Funding Category'!$D94 -> 1.1968923e+08 | I18: ='3.1 Funding Category'!$D95 -> 1.2112196e+08 | J18: ='3.1 Funding Category'!$D96 -> 1.2259767e+08 | K18: ='3.1 Funding Category'!$D97 -> 1.2411766e+08
D20: 2028 | H20: =+D20+1 -> 2029 | L20: =+H20+1 -> 2030 | P20: =+L20+1 -> 2031 | T20: =+P20+1 -> 2032 | X20: =+T20+1 -> 2033 | AB20: =+X20+1 -> 2034 | AF20: =+AB20+1 -> 2035
C21: Program Budget by Cost Category [1] | D21: Admin | E21: Mktg | F21: DINI | G21: DI Incentive | H21: Admin | I21: Mktg | J21: DINI | K21: DI Incentive | L21: Admin | M21: Mktg | N21: DINI | O21: DI Incentive | P21: Admin | Q21: Mktg | R21: DINI | S21: DI Incentive | T21: Admin | U21: Mktg | V21: DINI | W21: DI Incentive | X21: Admin | Y21: Mktg | Z21: DINI | AA21: DI Incentive | AB21: Admin | AC21: Mktg | AD21: DINI | AE21: DI Incentive | AF21: Admin | AG21: Mktg | AH21: DINI | AI21: DI Incentive
C22: Tab 4.1 - Program Budgets | D22: =SUMIFS('4.1 Program Budget 2028-2031'!O$16:O$303, '4.1 Program Budget 2028-2031'!$M$16:$M$303, $D$20) -> 11531866 | E22: =SUMIFS('4.1 Program Budget 2028-2031'!P$16:P$303, '4.1 Program Budget 2028-2031'!$M$16:$M$303, $D$20) -> 2157335 | F22: =SUMIFS('4.1 Program Budget 2028-2031'!Q$16:Q$303, '4.1 Program Budget 2028-2031'!$M$16:$M$303, $D$20) -> 26743138 | G22: =SUMIFS('4.1 Program Budget 2028-2031'!R$16:R$303, '4.1 Program Budget 2028-2031'!$M$16:$M$303, $D$20) -> 27995759 | H22: =SUMIFS('4.1 Program Budget 2028-2031'!O$16:O$303, '4.1 Program Budget 2028-2031'!$M$16:$M$303, $H$20) -> 10787901 | I22: =SUMIFS('4.1 Program Budget 2028-2031'!P$16:P$303, '4.1 Program Budget 2028-2031'!$M$16:$M$303, $H$20) -> 2206680.9 | J22: =SUMIFS('4.1 Program Budget 2028-2031'!Q$16:Q$303, '4.1 Program Budget 2028-2031'!$M$16:$M$303, $H$20) -> 27246347 | K22: =SUMIFS('4.1 Program Budget 2028-2031'!R$16:R$303, '4.1 Program Budget 2028-2031'!$M$16:$M$303, $H$20) -> 27519673 | L22: =SUMIFS('4.1 Program Budget 2028-2031'!O$16:O$303, '4.1 Program Budget 2028-2031'!$M$16:$M$303, $L$20) -> 11047131 | M22: =SUMIFS('4.1 Program Budget 2028-2031'!P$16:P$303, '4.1 Program Budget 2028-2031'!$M$16:$M$303, $L$20) -> 2200556.1 | N22: =SUMIFS('4.1 Program Budget 2028-2031'!Q$16:Q$303, '4.1 Program Budget 2028-2031'!$M$16:$M$303, $L$20) -> 28027410 | O22: =SUMIFS('4.1 Program Budget 2028-2031'!R$16:R$303, '4.1 Program Budget 2028-2031'!$M$16:$M$303, $L$20) -> 27501462 | P22: =SUMIFS('4.1 Program Budget 2028-2031'!O$16:O$303, '4.1 Program Budget 2028-2031'!$M$16:$M$303, $P$20) -> 11420888 | Q22: =SUMIFS('4.1 Program Budget 2028-2031'!P$16:P$303, '4.1 Program Budget 2028-2031'!$M$16:$M$303, $P$20) -> 2172279.5 | R22: =SUMIFS('4.1 Program Budget 2028-2031'!Q$16:Q$303, '4.1 Program Budget 2028-2031'!$M$16:$M$303, $P$20) -> 28369293 | S22: =SUMIFS('4.1 Program Budget 2028-2031'!R$16:R$303, '4.1 Program Budget 2028-2031'!$M$16:$M$303, $P$20) -> 29869877
C23: Tab 8 - Caps & Targets | D23: =SUMIFS('8 Cap & Target '!$G$12:$G$111,'8 Cap & Target '!$D$12:$D$111,'8 Cap & Target '!$D$13,'8 Cap & Target '!$B$12:$B$111,D20)+ SUMIFS('8 Cap & Target '!$G$12:$G$111,'8 Cap & Target '!$D$12:$D$111,'8 Cap & Target '!$D$14,'8 Cap & Target '!$B$12:$B$111,D20)+ SUMIFS('8 Cap & Target '!$G$12:$G$111,'8 Cap & Target '!$D$12:$D$111,'8 Cap & Target '!$D$15,'8 Cap & Target '!$B$12:$B$111,D20)+ SUMIFS('8 Cap & Target '!$G$12:$G$111,'8 Cap & Target '!$D$12:$D$111,'8 Cap & Target '!$D$21,'8 Cap & Target '!$B$12:$B$111,D20) -> 11531866 | E23: =SUMIFS('8 Cap & Target '!$G$12:$G$111,'8 Cap & Target '!$D$12:$D$111, '8 Cap & Target '!$D$16,'8 Cap & Target '!$B$12:$B$111, D20) -> 2157335 | F23: =SUMIFS('8 Cap & Target '!$G$12:$G$111,'8 Cap & Target '!$D$12:$D$111,'8 Cap & Target '!$D$19,'8 Cap & Target '!$B$12:$B$111,D20)+ SUMIFS('8 Cap & Target '!$G$12:$G$111,'8 Cap & Target '!$D$12:$D$111,'8 Cap & Target '!$D$20,'8 Cap & Target '!$B$12:$B$111,D20) -> 26743138 | G23: =SUMIFS('8 Cap & Target '!$G$12:$G$111,'8 Cap & Target '!$D$12:$D$111, '8 Cap & Target '!$D$18,'8 Cap & Target '!$B$12:$B$111, D20) -> 27995759 | H23: =SUMIFS('8 Cap & Target '!$G$12:$G$111,'8 Cap & Target '!$D$12:$D$111,'8 Cap & Target '!$D$13,'8 Cap & Target '!$B$12:$B$111, H20)+ SUMIFS('8 Cap & Target '!$G$12:$G$111,'8 Cap & Target '!$D$12:$D$111,'8 Cap & Target '!$D$14,'8 Cap & Target '!$B$12:$B$111, H20)+ SUMIFS('8 Cap & Target '!$G$12:$G$111,'8 Cap & Target '!$D$12:$D$111,'8 Cap & Target '!$D$15,'8 Cap & Target '!$B$12:$B$111, H20)+ SUMIFS('8 Cap & Target '!$G$12:$G$111,'8 Cap & Target '!$D$12:$D$111,'8 Cap & Target '!$D$21,'8 Cap & Target '!$B$12:$B$111,H20) -> 10787901 | I23: =SUMIFS('8 Cap & Target '!$G$12:$G$111,'8 Cap & Target '!$D$12:$D$111, '8 Cap & Target '!$D$16,'8 Cap & Target '!$B$12:$B$111, H20) -> 2206680.9 | J23: =SUMIFS('8 Cap & Target '!$G$12:$G$111,'8 Cap & Target '!$D$12:$D$111, '8 Cap & Target '!$D$19,'8 Cap & Target '!$B$12:$B$111, H20)+ SUMIFS('8 Cap & Target '!$G$12:$G$111,'8 Cap & Target '!$D$12:$D$111,'8 Cap & Target '!$D$20,'8 Cap & Target '!$B$12:$B$111,H20) -> 27246347 | K23: =SUMIFS('8 Cap & Target '!$G$12:$G$111,'8 Cap & Target '!$D$12:$D$111, '8 Cap & Target '!$D$18,'8 Cap & Target '!$B$12:$B$111, H20) -> 27519673 | L23: =SUMIFS('8 Cap & Target '!$G$12:$G$111,'8 Cap & Target '!$D$12:$D$111,'8 Cap & Target '!$D$13,'8 Cap & Target '!$B$12:$B$111, L20)+ SUMIFS('8 Cap & Target '!$G$12:$G$111,'8 Cap & Target '!$D$12:$D$111,'8 Cap & Target '!$D$14,'8 Cap & Target '!$B$12:$B$111, L20)+ SUMIFS('8 Cap & Target '!$G$12:$G$111,'8 Cap & Target '!$D$12:$D$111,'8 Cap & Target '!$D$15,'8 Cap & Target '!$B$12:$B$111, L20)+ SUMIFS('8 Cap & Target '!$G$12:$G$111,'8 Cap & Target '!$D$12:$D$111,'8 Cap & Target '!$D$21,'8 Cap & Target '!$B$12:$B$111,L20) -> 11047131 | M23: =SUMIFS('8 Cap & Target '!$G$12:$G$111,'8 Cap & Target '!$D$12:$D$111, '8 Cap & Target '!$D$16,'8 Cap & Target '!$B$12:$B$111, L20) -> 2200556.1 | N23: =SUMIFS('8 Cap & Target '!$G$12:$G$111,'8 Cap & Target '!$D$12:$D$111, '8 Cap & Target '!$D$19,'8 Cap & Target '!$B$12:$B$111, L20)+ SUMIFS('8 Cap & Target '!$G$12:$G$111,'8 Cap & Target '!$D$12:$D$111,'8 Cap & Target '!$D$20,'8 Cap & Target '!$B$12:$B$111,L20) -> 28027410 | O23: =SUMIFS('8 Cap & Target '!$G$12:$G$111,'8 Cap & Target '!$D$12:$D$111, '8 Cap & Target '!$D$18,'8 Cap & Target '!$B$12:$B$111, L20) -> 27501462 | P23: =SUMIFS('8 Cap & Target '!$G$12:$G$111,'8 Cap & Target '!$D$12:$D$111,'8 Cap & Target '!$D$13,'8 Cap & Target '!$B$12:$B$111, P20)+ SUMIFS('8 Cap & Target '!$G$12:$G$111,'8 Cap & Target '!$D$12:$D$111,'8 Cap & Target '!$D$14,'8 Cap & Target '!$B$12:$B$111, P20)+ SUMIFS('8 Cap & Target '!$G$12:$G$111,'8 Cap & Target '!$D$12:$D$111,'8 Cap & Target '!$D$15,'8 Cap & Target '!$B$12:$B$111, P20)+ SUMIFS('8 Cap & Target '!$G$12:$G$111,'8 Cap & Target '!$D$12:$D$111,'8 Cap & Target '!$D$21,'8 Cap & Target '!$B$12:$B$111,P20) -> 11420888 | Q23: =SUMIFS('8 Cap & Target '!$G$12:$G$111,'8 Cap & Target '!$D$12:$D$111, '8 Cap & Target '!$D$16,'8 Cap & Target '!$B$12:$B$111, P20) -> 2172279.5 | R23: =SUMIFS('8 Cap & Target '!$G$12:$G$111,'8 Cap & Target '!$D$12:$D$111, '8 Cap & Target '!$D$19,'8 Cap & Target '!$B$12:$B$111, P20)+ SUMIFS('8 Cap & Target '!$G$12:$G$111,'8 Cap & Target '!$D$12:$D$111,'8 Cap & Target '!$D$20,'8 Cap & Target '!$B$12:$B$111,P20) -> 28369293 | S23: =SUMIFS('8 Cap & Target '!$G$12:$G$111,'8 Cap & Target '!$D$12:$D$111, '8 Cap & Target '!$D$18,'8 Cap & Target '!$B$12:$B$111, P20) -> 29869877
C24: Difference | D24: =+D22-D23 -> 0 | E24: =+E22-E23 -> 0 | F24: =+F22-F23 -> 0 | G24: =+G22-G23 -> 0 | H24: =+H22-H23 -> 0 | I24: =+I22-I23 -> 0 | J24: =+J22-J23 -> 0 | K24: =+K22-K23 -> 0 | ... AI24: =+AI22-AI23 -> 0
C25: Tab 9 - Incentives Column, EE Total | G25: =SUM('9 Portfolio FTE and Budget'!E49:E50) -> 27995759 | K25: =SUM('9 Portfolio FTE and Budget'!F49:F50) -> 27519673 | O25: =SUM('9 Portfolio FTE and Budget'!G49:G50) -> 27501462 | S25: =SUM('9 Portfolio FTE and Budget'!H49:H50) -> 29869877
C26: Difference | G26: =+G22-G25 -> 0 | K26: =+K22-K25 -> 0 | O26: =+O22-O25 -> 0 | S26: =+S22-S25 -> 0 | W26: =+W22-W25 -> 0 | AA26: =+AA22-AA25 -> 0 | AE26: =+AE22-AE25 -> 0 | AI26: =+AI22-AI25 -> 0
C28: Portfolio Budget Total by Sector Summary Total [1] | J28: [2] | K28: [2] | L28: [2] | M28: [2] | O28: [3]
C29: Tab 4.1 & 4.2 - PA Portfolio Budget by Function | D29: Year | E29: Residential | F29: Commercial | G29: Industrial | H29: Agricultural | I29: Public | J29: Emerging Tech | K29: Codes & Standards | L29: WE&T | M29: Finance | N29: Cross Cutting | O29: Portfolio Support | P29: OBF Loan Pool
D30: 2028 | E30: =SUMIFS('4.1 Program Budget 2028-2031'!$N$16:$N$303, '4.1 Program Budget 2028-2031'!$J$16:$J$303, '0 Validations'!E$29, '4.1 Program Budget 2028-2031'!$M$16:$M$303, '0 Validations'!$D30) -> 23563520 | F30: =SUMIFS('4.1 Program Budget 2028-2031'!$N$16:$N$303, '4.1 Program Budget 2028-2031'!$J$16:$J$303, '0 Validations'!F$29, '4.1 Program Budget 2028-2031'!$M$16:$M$303, '0 Validations'!$D30) -> 20238030 | G30: =SUMIFS('4.1 Program Budget 2028-2031'!$N$16:$N$303, '4.1 Program Budget 2028-2031'!$J$16:$J$303, '0 Validations'!G$29, '4.1 Program Budget 2028-2031'!$M$16:$M$303, '0 Validations'!$D30) -> 9815553.6 | H30: =SUMIFS('4.1 Program Budget 2028-2031'!$N$16:$N$303, '4.1 Program Budget 2028-2031'!$J$16:$J$303, '0 Validations'!H$29, '4.1 Program Budget 2028-2031'!$M$16:$M$303, '0 Validations'!$D30) -> 106317.38 | I30: =SUMIFS('4.1 Program Budget 2028-2031'!$N$16:$N$303, '4.1 Program Budget 2028-2031'!$J$16:$J$303, '0 Validations'!I$29, '4.1 Program Budget 2028-2031'!$M$16:$M$303, '0 Validations'!$D30) -> 1110310.5 | J30: =SUMIFS('4.1 Program Budget 2028-2031'!$N$16:$N$303, '4.1 Program Budget 2028-2031'!$J$16:$J$303, '0 Validations'!J$29, '4.1 Program Budget 2028-2031'!$M$16:$M$303, '0 Validations'!$D30) -> 0 | K30: =SUMIFS('4.1 Program Budget 2028-2031'!$N$16:$N$303, '4.1 Program Budget 2028-2031'!$J$16:$J$303, '0 Validations'!K$29, '4.1 Program Budget 2028-2031'!$M$16:$M$303, '0 Validations'!$D30) -> 0 | L30: =SUMIFS('4.1 Program Budget 2028-2031'!$N$16:$N$303, '4.1 Program Budget 2028-2031'!$J$16:$J$303, '0 Validations'!L$29, '4.1 Program Budget 2028-2031'!$M$16:$M$303, '0 Validations'!$D30) -> 0 | ... P30: =SUMIFS('4.1 Program Budget 2028-2031'!$N$16:$N$303, '4.1 Program Budget 2028-2031'!$J$16:$J$303, '0 Validations'!P$29, '4.1 Program Budget 2028-2031'!$M$16:$M$303, '0 Validations'!$D30) -> 0 | Q30: =IF(AND(SUM(E30:O30)=D10,SUM(E30:O30)=D11,SUM(E30:O30)=D12,SUM(E30:O30)=D13,SUM(E30:O30)=D14)=TRUE,0,"ERROR") -> 0
D31: 2029 | E31: =SUMIFS('4.1 Program Budget 2028-2031'!$N$16:$N$303, '4.1 Program Budget 2028-2031'!$J$16:$J$303, '0 Validations'!E$29, '4.1 Program Budget 2028-2031'!$M$16:$M$303, '0 Validations'!$D31) -> 23965558 | F31: =SUMIFS('4.1 Program Budget 2028-2031'!$N$16:$N$303, '4.1 Program Budget 2028-2031'!$J$16:$J$303, '0 Validations'!F$29, '4.1 Program Budget 2028-2031'!$M$16:$M$303, '0 Validations'!$D31) -> 20057915 | G31: =SUMIFS('4.1 Program Budget 2028-2031'!$N$16:$N$303, '4.1 Program Budget 2028-2031'!$J$16:$J$303, '0 Validations'!G$29, '4.1 Program Budget 2028-2031'!$M$16:$M$303, '0 Validations'!$D31) -> 9633096.9 | H31: =SUMIFS('4.1 Program Budget 2028-2031'!$N$16:$N$303, '4.1 Program Budget 2028-2031'!$J$16:$J$303, '0 Validations'!H$29, '4.1 Program Budget 2028-2031'!$M$16:$M$303, '0 Validations'!$D31) -> 105989.17 | I31: =SUMIFS('4.1 Program Budget 2028-2031'!$N$16:$N$303, '4.1 Program Budget 2028-2031'!$J$16:$J$303, '0 Validations'!I$29, '4.1 Program Budget 2028-2031'!$M$16:$M$303, '0 Validations'!$D31) -> 1178300.5 | J31: =SUMIFS('4.1 Program Budget 2028-2031'!$N$16:$N$303, '4.1 Program Budget 2028-2031'!$J$16:$J$303, '0 Validations'!J$29, '4.1 Program Budget 2028-2031'!$M$16:$M$303, '0 Validations'!$D31) -> 0 | K31: =SUMIFS('4.1 Program Budget 2028-2031'!$N$16:$N$303, '4.1 Program Budget 2028-2031'!$J$16:$J$303, '0 Validations'!K$29, '4.1 Program Budget 2028-2031'!$M$16:$M$303, '0 Validations'!$D31) -> 0 | L31: =SUMIFS('4.1 Program Budget 2028-2031'!$N$16:$N$303, '4.1 Program Budget 2028-2031'!$J$16:$J$303, '0 Validations'!L$29, '4.1 Program Budget 2028-2031'!$M$16:$M$303, '0 Validations'!$D31) -> 0 | ... P31: =SUMIFS('4.1 Program Budget 2028-2031'!$N$16:$N$303, '4.1 Program Budget 2028-2031'!$J$16:$J$303, '0 Validations'!P$29, '4.1 Program Budget 2028-2031'!$M$16:$M$303, '0 Validations'!$D31) -> 0 | Q31: =IF(AND(SUM(E31:O31)=E10,SUM(E31:O31)=E11,SUM(E31:O31)=E12,SUM(E31:O31)=E13,SUM(E31:O31)=E14)=TRUE,0,"ERROR") -> 0
D32: 2030 | E32: =SUMIFS('4.1 Program Budget 2028-2031'!$N$16:$N$303, '4.1 Program Budget 2028-2031'!$J$16:$J$303, '0 Validations'!E$29, '4.1 Program Budget 2028-2031'!$M$16:$M$303, '0 Validations'!$D32) -> 24986710 | F32: =SUMIFS('4.1 Program Budget 2028-2031'!$N$16:$N$303, '4.1 Program Budget 2028-2031'!$J$16:$J$303, '0 Validations'!F$29, '4.1 Program Budget 2028-2031'!$M$16:$M$303, '0 Validations'!$D32) -> 20079661 | G32: =SUMIFS('4.1 Program Budget 2028-2031'!$N$16:$N$303, '4.1 Program Budget 2028-2031'!$J$16:$J$303, '0 Validations'!G$29, '4.1 Program Budget 2028-2031'!$M$16:$M$303, '0 Validations'!$D32) -> 9398528.5 | H32: =SUMIFS('4.1 Program Budget 2028-2031'!$N$16:$N$303, '4.1 Program Budget 2028-2031'!$J$16:$J$303, '0 Validations'!H$29, '4.1 Program Budget 2028-2031'!$M$16:$M$303, '0 Validations'!$D32) -> 67462.973 | I32: =SUMIFS('4.1 Program Budget 2028-2031'!$N$16:$N$303, '4.1 Program Budget 2028-2031'!$J$16:$J$303, '0 Validations'!I$29, '4.1 Program Budget 2028-2031'!$M$16:$M$303, '0 Validations'!$D32) -> 1209222.9 | J32: =SUMIFS('4.1 Program Budget 2028-2031'!$N$16:$N$303, '4.1 Program Budget 2028-2031'!$J$16:$J$303, '0 Validations'!J$29, '4.1 Program Budget 2028-2031'!$M$16:$M$303, '0 Validations'!$D32) -> 0 | K32: =SUMIFS('4.1 Program Budget 2028-2031'!$N$16:$N$303, '4.1 Program Budget 2028-2031'!$J$16:$J$303, '0 Validations'!K$29, '4.1 Program Budget 2028-2031'!$M$16:$M$303, '0 Validations'!$D32) -> 0 | L32: =SUMIFS('4.1 Program Budget 2028-2031'!$N$16:$N$303, '4.1 Program Budget 2028-2031'!$J$16:$J$303, '0 Validations'!L$29, '4.1 Program Budget 2028-2031'!$M$16:$M$303, '0 Validations'!$D32) -> 0 | ... P32: =SUMIFS('4.1 Program Budget 2028-2031'!$N$16:$N$303, '4.1 Program Budget 2028-2031'!$J$16:$J$303, '0 Validations'!P$29, '4.1 Program Budget 2028-2031'!$M$16:$M$303, '0 Validations'!$D32) -> 0 | Q32: =IF(AND(SUM(E32:O32)=F10,SUM(E32:O32)=F11,SUM(E32:O32)=F12,SUM(E32:O32)=F13,SUM(E32:O32)=F14)=TRUE,0,"ERROR") -> 0
D33: 2031 | E33: =SUMIFS('4.1 Program Budget 2028-2031'!$N$16:$N$303, '4.1 Program Budget 2028-2031'!$J$16:$J$303, '0 Validations'!E$29, '4.1 Program Budget 2028-2031'!$M$16:$M$303, '0 Validations'!$D33) -> 28883027 | F33: =SUMIFS('4.1 Program Budget 2028-2031'!$N$16:$N$303, '4.1 Program Budget 2028-2031'!$J$16:$J$303, '0 Validations'!F$29, '4.1 Program Budget 2028-2031'!$M$16:$M$303, '0 Validations'!$D33) -> 19950649 | G33: =SUMIFS('4.1 Program Budget 2028-2031'!$N$16:$N$303, '4.1 Program Budget 2028-2031'!$J$16:$J$303, '0 Validations'!G$29, '4.1 Program Budget 2028-2031'!$M$16:$M$303, '0 Validations'!$D33) -> 9368052.3 | H33: =SUMIFS('4.1 Program Budget 2028-2031'!$N$16:$N$303, '4.1 Program Budget 2028-2031'!$J$16:$J$303, '0 Validations'!H$29, '4.1 Program Budget 2028-2031'!$M$16:$M$303, '0 Validations'!$D33) -> 69828.337 | I33: =SUMIFS('4.1 Program Budget 2028-2031'!$N$16:$N$303, '4.1 Program Budget 2028-2031'!$J$16:$J$303, '0 Validations'!I$29, '4.1 Program Budget 2028-2031'!$M$16:$M$303, '0 Validations'!$D33) -> 1222318.1 | J33: =SUMIFS('4.1 Program Budget 2028-2031'!$N$16:$N$303, '4.1 Program Budget 2028-2031'!$J$16:$J$303, '0 Validations'!J$29, '4.1 Program Budget 2028-2031'!$M$16:$M$303, '0 Validations'!$D33) -> 0 | K33: =SUMIFS('4.1 Program Budget 2028-2031'!$N$16:$N$303, '4.1 Program Budget 2028-2031'!$J$16:$J$303, '0 Validations'!K$29, '4.1 Program Budget 2028-2031'!$M$16:$M$303, '0 Validations'!$D33) -> 0 | L33: =SUMIFS('4.1 Program Budget 2028-2031'!$N$16:$N$303, '4.1 Program Budget 2028-2031'!$J$16:$J$303, '0 Validations'!L$29, '4.1 Program Budget 2028-2031'!$M$16:$M$303, '0 Validations'!$D33) -> 0 | ... P33: =SUMIFS('4.1 Program Budget 2028-2031'!$N$16:$N$303, '4.1 Program Budget 2028-2031'!$J$16:$J$303, '0 Validations'!P$29, '4.1 Program Budget 2028-2031'!$M$16:$M$303, '0 Validations'!$D33) -> 0 | Q33: =IF(AND(SUM(E33:O33)=G10,SUM(E33:O33)=G11,SUM(E33:O33)=G12,SUM(E33:O33)=G13,SUM(E33:O33)=G14)=TRUE,0,"ERROR") -> 0
D34: 2032 | E34: =SUMIFS('4.2 Sector Seg Budget 2032-2035'!$F$13:$F$107, '4.2 Sector Seg Budget 2032-2035'!$C$13:$C$107, '0 Validations'!E$29, '4.2 Sector Seg Budget 2032-2035'!$E$13:$E$107, '0 Validations'!$D34) -> 28883027 | F34: =SUMIFS('4.2 Sector Seg Budget 2032-2035'!$F$13:$F$107, '4.2 Sector Seg Budget 2032-2035'!$C$13:$C$107, '0 Validations'!F$29, '4.2 Sector Seg Budget 2032-2035'!$E$13:$E$107, '0 Validations'!$D34) -> 19950649 | G34: =SUMIFS('4.2 Sector Seg Budget 2032-2035'!$F$13:$F$107, '4.2 Sector Seg Budget 2032-2035'!$C$13:$C$107, '0 Validations'!G$29, '4.2 Sector Seg Budget 2032-2035'!$E$13:$E$107, '0 Validations'!$D34) -> 9368052.3 | H34: =SUMIFS('4.2 Sector Seg Budget 2032-2035'!$F$13:$F$107, '4.2 Sector Seg Budget 2032-2035'!$C$13:$C$107, '0 Validations'!H$29, '4.2 Sector Seg Budget 2032-2035'!$E$13:$E$107, '0 Validations'!$D34) -> 69828.337 | I34: =SUMIFS('4.2 Sector Seg Budget 2032-2035'!$F$13:$F$107, '4.2 Sector Seg Budget 2032-2035'!$C$13:$C$107, '0 Validations'!I$29, '4.2 Sector Seg Budget 2032-2035'!$E$13:$E$107, '0 Validations'!$D34) -> 1222318.1 | J34: =SUMIFS('4.2 Sector Seg Budget 2032-2035'!$F$13:$F$107, '4.2 Sector Seg Budget 2032-2035'!$C$13:$C$107, '0 Validations'!J$29, '4.2 Sector Seg Budget 2032-2035'!$E$13:$E$107, '0 Validations'!$D34) -> 0 | K34: =SUMIFS('4.2 Sector Seg Budget 2032-2035'!$F$13:$F$107, '4.2 Sector Seg Budget 2032-2035'!$C$13:$C$107, '0 Validations'!K$29, '4.2 Sector Seg Budget 2032-2035'!$E$13:$E$107, '0 Validations'!$D34) -> 0 | L34: =SUMIFS('4.2 Sector Seg Budget 2032-2035'!$F$13:$F$107, '4.2 Sector Seg Budget 2032-2035'!$C$13:$C$107, '0 Validations'!L$29, '4.2 Sector Seg Budget 2032-2035'!$E$13:$E$107, '0 Validations'!$D34) -> 0 | ... N34: =SUMIFS('4.2 Sector Seg Budget 2032-2035'!$F$13:$F$107, '4.2 Sector Seg Budget 2032-2035'!$C$13:$C$107, '0 Validations'!N$29, '4.2 Sector Seg Budget 2032-2035'!$E$13:$E$107, '0 Validations'!$D34) -> 9539964.9 | O34: =SUMIFS('4.2 Sector Seg Budget 2032-2035'!$F$13:$F$108, '4.2 Sector Seg Budget 2032-2035'!$C$13:$C$108, '0 Validations'!O$29, '4.2 Sector Seg Budget 2032-2035'!$E$13:$E$108, '0 Validations'!$D34) -> 2798498 | P34: =SUMIFS('4.2 Sector Seg Budget 2032-2035'!$F$13:$F$107, '4.2 Sector Seg Budget 2032-2035'!$C$13:$C$107, '0 Validations'!P$29, '4.2 Sector Seg Budget 2032-2035'!$E$13:$E$107, '0 Validations'!$D34) -> 0 | Q34: =IF(AND(SUM(E34:O34)=H10,SUM(E34:O34)=H11)=TRUE,0,"ERROR") -> 0
D35: 2033 | E35: =SUMIFS('4.2 Sector Seg Budget 2032-2035'!$F$13:$F$107, '4.2 Sector Seg Budget 2032-2035'!$C$13:$C$107, '0 Validations'!E$29, '4.2 Sector Seg Budget 2032-2035'!$E$13:$E$107, '0 Validations'!$D35) -> 28883027 | F35: =SUMIFS('4.2 Sector Seg Budget 2032-2035'!$F$13:$F$107, '4.2 Sector Seg Budget 2032-2035'!$C$13:$C$107, '0 Validations'!F$29, '4.2 Sector Seg Budget 2032-2035'!$E$13:$E$107, '0 Validations'!$D35) -> 19950649 | G35: =SUMIFS('4.2 Sector Seg Budget 2032-2035'!$F$13:$F$107, '4.2 Sector Seg Budget 2032-2035'!$C$13:$C$107, '0 Validations'!G$29, '4.2 Sector Seg Budget 2032-2035'!$E$13:$E$107, '0 Validations'!$D35) -> 9368052.3 | H35: =SUMIFS('4.2 Sector Seg Budget 2032-2035'!$F$13:$F$107, '4.2 Sector Seg Budget 2032-2035'!$C$13:$C$107, '0 Validations'!H$29, '4.2 Sector Seg Budget 2032-2035'!$E$13:$E$107, '0 Validations'!$D35) -> 69828.337 | I35: =SUMIFS('4.2 Sector Seg Budget 2032-2035'!$F$13:$F$107, '4.2 Sector Seg Budget 2032-2035'!$C$13:$C$107, '0 Validations'!I$29, '4.2 Sector Seg Budget 2032-2035'!$E$13:$E$107, '0 Validations'!$D35) -> 1222318.1 | J35: =SUMIFS('4.2 Sector Seg Budget 2032-2035'!$F$13:$F$107, '4.2 Sector Seg Budget 2032-2035'!$C$13:$C$107, '0 Validations'!J$29, '4.2 Sector Seg Budget 2032-2035'!$E$13:$E$107, '0 Validations'!$D35) -> 0 | K35: =SUMIFS('4.2 Sector Seg Budget 2032-2035'!$F$13:$F$107, '4.2 Sector Seg Budget 2032-2035'!$C$13:$C$107, '0 Validations'!K$29, '4.2 Sector Seg Budget 2032-2035'!$E$13:$E$107, '0 Validations'!$D35) -> 0 | L35: =SUMIFS('4.2 Sector Seg Budget 2032-2035'!$F$13:$F$107, '4.2 Sector Seg Budget 2032-2035'!$C$13:$C$107, '0 Validations'!L$29, '4.2 Sector Seg Budget 2032-2035'!$E$13:$E$107, '0 Validations'!$D35) -> 0 | ... N35: =SUMIFS('4.2 Sector Seg Budget 2032-2035'!$F$13:$F$107, '4.2 Sector Seg Budget 2032-2035'!$C$13:$C$107, '0 Validations'!N$29, '4.2 Sector Seg Budget 2032-2035'!$E$13:$E$107, '0 Validations'!$D35) -> 9539964.9 | O35: =SUMIFS('4.2 Sector Seg Budget 2032-2035'!$F$13:$F$108, '4.2 Sector Seg Budget 2032-2035'!$C$13:$C$108, '0 Validations'!O$29, '4.2 Sector Seg Budget 2032-2035'!$E$13:$E$108, '0 Validations'!$D35) -> 2798498 | P35: =SUMIFS('4.2 Sector Seg Budget 2032-2035'!$F$13:$F$107, '4.2 Sector Seg Budget 2032-2035'!$C$13:$C$107, '0 Validations'!P$29, '4.2 Sector Seg Budget 2032-2035'!$E$13:$E$107, '0 Validations'!$D35) -> 0 | Q35: =IF(AND(SUM(E35:O35)=I10,SUM(E35:O35)=I11)=TRUE,0,"ERROR") -> 0
D36: 2034 | E36: =SUMIFS('4.2 Sector Seg Budget 2032-2035'!$F$13:$F$107, '4.2 Sector Seg Budget 2032-2035'!$C$13:$C$107, '0 Validations'!E$29, '4.2 Sector Seg Budget 2032-2035'!$E$13:$E$107, '0 Validations'!$D36) -> 28883027 | F36: =SUMIFS('4.2 Sector Seg Budget 2032-2035'!$F$13:$F$107, '4.2 Sector Seg Budget 2032-2035'!$C$13:$C$107, '0 Validations'!F$29, '4.2 Sector Seg Budget 2032-2035'!$E$13:$E$107, '0 Validations'!$D36) -> 19950649 | G36: =SUMIFS('4.2 Sector Seg Budget 2032-2035'!$F$13:$F$107, '4.2 Sector Seg Budget 2032-2035'!$C$13:$C$107, '0 Validations'!G$29, '4.2 Sector Seg Budget 2032-2035'!$E$13:$E$107, '0 Validations'!$D36) -> 9368052.3 | H36: =SUMIFS('4.2 Sector Seg Budget 2032-2035'!$F$13:$F$107, '4.2 Sector Seg Budget 2032-2035'!$C$13:$C$107, '0 Validations'!H$29, '4.2 Sector Seg Budget 2032-2035'!$E$13:$E$107, '0 Validations'!$D36) -> 69828.337 | I36: =SUMIFS('4.2 Sector Seg Budget 2032-2035'!$F$13:$F$107, '4.2 Sector Seg Budget 2032-2035'!$C$13:$C$107, '0 Validations'!I$29, '4.2 Sector Seg Budget 2032-2035'!$E$13:$E$107, '0 Validations'!$D36) -> 1222318.1 | J36: =SUMIFS('4.2 Sector Seg Budget 2032-2035'!$F$13:$F$107, '4.2 Sector Seg Budget 2032-2035'!$C$13:$C$107, '0 Validations'!J$29, '4.2 Sector Seg Budget 2032-2035'!$E$13:$E$107, '0 Validations'!$D36) -> 0 | K36: =SUMIFS('4.2 Sector Seg Budget 2032-2035'!$F$13:$F$107, '4.2 Sector Seg Budget 2032-2035'!$C$13:$C$107, '0 Validations'!K$29, '4.2 Sector Seg Budget 2032-2035'!$E$13:$E$107, '0 Validations'!$D36) -> 0 | L36: =SUMIFS('4.2 Sector Seg Budget 2032-2035'!$F$13:$F$107, '4.2 Sector Seg Budget 2032-2035'!$C$13:$C$107, '0 Validations'!L$29, '4.2 Sector Seg Budget 2032-2035'!$E$13:$E$107, '0 Validations'!$D36) -> 0 | ... N36: =SUMIFS('4.2 Sector Seg Budget 2032-2035'!$F$13:$F$107, '4.2 Sector Seg Budget 2032-2035'!$C$13:$C$107, '0 Validations'!N$29, '4.2 Sector Seg Budget 2032-2035'!$E$13:$E$107, '0 Validations'!$D36) -> 9539964.9 | O36: =SUMIFS('4.2 Sector Seg Budget 2032-2035'!$F$13:$F$108, '4.2 Sector Seg Budget 2032-2035'!$C$13:$C$108, '0 Validations'!O$29, '4.2 Sector Seg Budget 2032-2035'!$E$13:$E$108, '0 Validations'!$D36) -> 2798498 | P36: =SUMIFS('4.2 Sector Seg Budget 2032-2035'!$F$13:$F$107, '4.2 Sector Seg Budget 2032-2035'!$C$13:$C$107, '0 Validations'!P$29, '4.2 Sector Seg Budget 2032-2035'!$E$13:$E$107, '0 Validations'!$D36) -> 0 | Q36: =IF(AND(SUM(E36:O36)=J10,SUM(E36:O36)=J11)=TRUE,0,"ERROR") -> 0
D37: 2035 | E37: =SUMIFS('4.2 Sector Seg Budget 2032-2035'!$F$13:$F$107, '4.2 Sector Seg Budget 2032-2035'!$C$13:$C$107, '0 Validations'!E$29, '4.2 Sector Seg Budget 2032-2035'!$E$13:$E$107, '0 Validations'!$D37) -> 28883027 | F37: =SUMIFS('4.2 Sector Seg Budget 2032-2035'!$F$13:$F$107, '4.2 Sector Seg Budget 2032-2035'!$C$13:$C$107, '0 Validations'!F$29, '4.2 Sector Seg Budget 2032-2035'!$E$13:$E$107, '0 Validations'!$D37) -> 19950649 | G37: =SUMIFS('4.2 Sector Seg Budget 2032-2035'!$F$13:$F$107, '4.2 Sector Seg Budget 2032-2035'!$C$13:$C$107, '0 Validations'!G$29, '4.2 Sector Seg Budget 2032-2035'!$E$13:$E$107, '0 Validations'!$D37) -> 9368052.3 | H37: =SUMIFS('4.2 Sector Seg Budget 2032-2035'!$F$13:$F$107, '4.2 Sector Seg Budget 2032-2035'!$C$13:$C$107, '0 Validations'!H$29, '4.2 Sector Seg Budget 2032-2035'!$E$13:$E$107, '0 Validations'!$D37) -> 69828.337 | I37: =SUMIFS('4.2 Sector Seg Budget 2032-2035'!$F$13:$F$107, '4.2 Sector Seg Budget 2032-2035'!$C$13:$C$107, '0 Validations'!I$29, '4.2 Sector Seg Budget 2032-2035'!$E$13:$E$107, '0 Validations'!$D37) -> 1222318.1 | J37: =SUMIFS('4.2 Sector Seg Budget 2032-2035'!$F$13:$F$107, '4.2 Sector Seg Budget 2032-2035'!$C$13:$C$107, '0 Validations'!J$29, '4.2 Sector Seg Budget 2032-2035'!$E$13:$E$107, '0 Validations'!$D37) -> 0 | K37: =SUMIFS('4.2 Sector Seg Budget 2032-2035'!$F$13:$F$107, '4.2 Sector Seg Budget 2032-2035'!$C$13:$C$107, '0 Validations'!K$29, '4.2 Sector Seg Budget 2032-2035'!$E$13:$E$107, '0 Validations'!$D37) -> 0 | L37: =SUMIFS('4.2 Sector Seg Budget 2032-2035'!$F$13:$F$107, '4.2 Sector Seg Budget 2032-2035'!$C$13:$C$107, '0 Validations'!L$29, '4.2 Sector Seg Budget 2032-2035'!$E$13:$E$107, '0 Validations'!$D37) -> 0 | ... N37: =SUMIFS('4.2 Sector Seg Budget 2032-2035'!$F$13:$F$107, '4.2 Sector Seg Budget 2032-2035'!$C$13:$C$107, '0 Validations'!N$29, '4.2 Sector Seg Budget 2032-2035'!$E$13:$E$107, '0 Validations'!$D37) -> 9539964.9 | O37: =SUMIFS('4.2 Sector Seg Budget 2032-2035'!$F$13:$F$108, '4.2 Sector Seg Budget 2032-2035'!$C$13:$C$108, '0 Validations'!O$29, '4.2 Sector Seg Budget 2032-2035'!$E$13:$E$108, '0 Validations'!$D37) -> 2798498 | P37: =SUMIFS('4.2 Sector Seg Budget 2032-2035'!$F$13:$F$107, '4.2 Sector Seg Budget 2032-2035'!$C$13:$C$107, '0 Validations'!P$29, '4.2 Sector Seg Budget 2032-2035'!$E$13:$E$107, '0 Validations'!$D37) -> 0 | Q37: =IF(AND(SUM(E37:O37)=K10,SUM(E37:O37)=K11)=TRUE,0,"ERROR") -> 0
D38: [1] SDG&E has revised the formulas on this tab where needed to improve accuracy.
D39: [2] Emerging Tech, Codes & Standards, WE&T, and Finance are classified as program categories (not sectors) on the "Read Me" tab. Therefore, the budget for these categories is embedded within the various sectors.
D40: [3] SDG&E added a column for the Portfolio Support sector to ensure its total budget request is accurately reflected.

Sheet 1 Participant Bill Impacts
B2: Description | C2: Calculates estimated average first year bill savings for participating customers by calculated the electric and gas savings with the forecasted program energy savings.
B3: Instructions | C3: 2024 data is required for baseline.
B5: PA Name: | C5: ='Read Me'!B10 -> SDG&E
B6: Budget Year: | C6: ='Read Me'!B11 -> 2028-2035
B9: Note: Due to fuel substitution, participant first year savings and associated annual bill savings be negative
B11: Program Year | C11: Sector | D11: Participant First Year Electric Net Savings (kWh)1 | E11: Participant First Year Gas Net Savings (Therms)1 | F11: Total Average Annual Bill Savings Electric ($)2 | G11: Total Average Annual Bill Savings Gas ($)2 | H11: Total Bill Savings3 | I11: Calculated $/kWh | J11: Calculated $/Therms
B12: Reference: 2024 | C12: Total | D12: =D17+D22+D27+D32+D37+D42+D47 -> 2.7858468e+08 | E12: =E17+E22+E27+E32+E37+E42+E47 -> 7055971.4 | F12: =F17+F22+F27+F32+F37+F42+F47 -> 91926612 | G12: =G17+G22+G27+G32+G37+G42+G47 -> 3619332.5 | H12: =H17+H22+H27+H32+H37+H42+H47 -> 95545945 | I12: =F12/D12 -> 0.32997726 | J12: =G12/E12 -> 0.51294603
B13: 2028 | C13: Total | D13: =D18+D23+D28+D33+D38+D43+D48 -> 2.2355587e+08 | E13: =E18+E23+E28+E33+E38+E43+E48 -> 4296382.6 | F13: =F18+F23+F28+F33+F38+F43+F48 -> 51643294 | G13: =G18+G23+G28+G33+G38+G43+G48 -> 8747178.8 | H13: =H18+H23+H28+H33+H38+H43+H48 -> 60390473 | I13: =F13/D13 -> 0.23100844 | J13: =G13/E13 -> 2.0359404
B14: 2029 | C14: Total | D14: =D19+D24+D29+D34+D39+D44+D49 -> 2.0224353e+08 | E14: =E19+E24+E29+E34+E39+E44+E49 -> 4034140.2 | F14: =F19+F24+F29+F34+F39+F44+F49 -> 50877800 | G14: =G19+G24+G29+G34+G39+G44+G49 -> 8110702.5 | H14: =H19+H24+H29+H34+H39+H44+H49 -> 58988503 | I14: =F14/D14 -> 0.25156701 | J14: =G14/E14 -> 2.0105157
B15: 2030 | C15: Total | D15: =D20+D25+D30+D35+D40+D45+D50 -> 2.1167183e+08 | E15: =E20+E25+E30+E35+E40+E45+E50 -> 3911260.1 | F15: =F20+F25+F30+F35+F40+F45+F50 -> 58339959 | G15: =G20+G25+G30+G35+G40+G45+G50 -> 7987586.4 | H15: =H20+H25+H30+H35+H40+H45+H50 -> 66327546 | I15: =F15/D15 -> 0.27561513 | J15: =G15/E15 -> 2.0422028
B16: 2031 | C16: Total | D16: =D21+D26+D31+D36+D41+D46+D51 -> 2.4187368e+08 | E16: =E21+E26+E31+E36+E41+E46+E51 -> 3883165.3 | F16: =F21+F26+F31+F36+F41+F46+F51 -> 74224161 | G16: =G21+G26+G31+G36+G41+G46+G51 -> 8036160.9 | H16: =H21+H26+H31+H36+H41+H46+H51 -> 82260322 | I16: =F16/D16 -> 0.3068716 | J16: =G16/E16 -> 2.0694872
B17: Reference: 2024 | C17: Residential | D17: 27567860 | E17: 2378420 | F17: 9478749.1 | G17: 1340451.3 | H17: =F17+G17 -> 10819200 | I17: =F17/D17 -> 0.34383333 | J17: =G17/E17 -> 0.56358897
B18: 2028 | C18: Residential | D18: =SUMIFS('Budget Filing Data'!$Q$10:$Q$297,'Budget Filing Data'!$G$10:$G$297,'1 Participant Bill Impacts'!$C18,'Budget Filing Data'!$B$10:$B$297,'1 Participant Bill Impacts'!$B18) -> 41471058 | E18: =SUMIFS('Budget Filing Data'!$S$10:$S$297,'Budget Filing Data'!$G$10:$G$297,'1 Participant Bill Impacts'!$C18,'Budget Filing Data'!$B$10:$B$297,'1 Participant Bill Impacts'!$B18) -> 1146201.3 | F18: =SUMIFS('Budget Filing Data'!BA$10:BA$297,'Budget Filing Data'!$G$10:$G$297,'1 Participant Bill Impacts'!$C18,'Budget Filing Data'!$B$10:$B$297,'1 Participant Bill Impacts'!$B18) -> 15751984 | G18: =SUMIFS('Budget Filing Data'!BB$10:BB$297,'Budget Filing Data'!$G$10:$G$297,'1 Participant Bill Impacts'!$C18,'Budget Filing Data'!$B$10:$B$297,'1 Participant Bill Impacts'!$B18) -> 2513466.3 | H18: =F18+G18 -> 18265450 | I18: =F18/D18 -> 0.37983077 | J18: =G18/E18 -> 2.1928663
B19: 2029 | C19: Residential | D19: =SUMIFS('Budget Filing Data'!$Q$10:$Q$297,'Budget Filing Data'!$G$10:$G$297,'1 Participant Bill Impacts'!$C19,'Budget Filing Data'!$B$10:$B$297,'1 Participant Bill Impacts'!$B19) -> 50729762 | E19: =SUMIFS('Budget Filing Data'!$S$10:$S$297,'Budget Filing Data'!$G$10:$G$297,'1 Participant Bill Impacts'!$C19,'Budget Filing Data'!$B$10:$B$297,'1 Participant Bill Impacts'!$B19) -> 1086917.2 | F19: =SUMIFS('Budget Filing Data'!BA$10:BA$297,'Budget Filing Data'!$G$10:$G$297,'1 Participant Bill Impacts'!$C19,'Budget Filing Data'!$B$10:$B$297,'1 Participant Bill Impacts'!$B19) -> 19916113 | G19: =SUMIFS('Budget Filing Data'!BB$10:BB$297,'Budget Filing Data'!$G$10:$G$297,'1 Participant Bill Impacts'!$C19,'Budget Filing Data'!$B$10:$B$297,'1 Participant Bill Impacts'!$B19) -> 2420594.4 | H19: =F19+G19 -> 22336708 | I19: =F19/D19 -> 0.39259229 | J19: =G19/E19 -> 2.2270275
B20: 2030 | C20: Residential | D20: =SUMIFS('Budget Filing Data'!$Q$10:$Q$297,'Budget Filing Data'!$G$10:$G$297,'1 Participant Bill Impacts'!$C20,'Budget Filing Data'!$B$10:$B$297,'1 Participant Bill Impacts'!$B20) -> 69433314 | E20: =SUMIFS('Budget Filing Data'!$S$10:$S$297,'Budget Filing Data'!$G$10:$G$297,'1 Participant Bill Impacts'!$C20,'Budget Filing Data'!$B$10:$B$297,'1 Participant Bill Impacts'!$B20) -> 1007663.5 | F20: =SUMIFS('Budget Filing Data'!BA$10:BA$297,'Budget Filing Data'!$G$10:$G$297,'1 Participant Bill Impacts'!$C20,'Budget Filing Data'!$B$10:$B$297,'1 Participant Bill Impacts'!$B20) -> 28181792 | G20: =SUMIFS('Budget Filing Data'!BB$10:BB$297,'Budget Filing Data'!$G$10:$G$297,'1 Participant Bill Impacts'!$C20,'Budget Filing Data'!$B$10:$B$297,'1 Participant Bill Impacts'!$B20) -> 2292337.1 | H20: =F20+G20 -> 30474129 | I20: =F20/D20 -> 0.40588286 | J20: =G20/E20 -> 2.2749034
B21: 2031 | C21: Residential | D21: =SUMIFS('Budget Filing Data'!$Q$10:$Q$297,'Budget Filing Data'!$G$10:$G$297,'1 Participant Bill Impacts'!$C21,'Budget Filing Data'!$B$10:$B$297,'1 Participant Bill Impacts'!$B21) -> 1.0595197e+08 | E21: =SUMIFS('Budget Filing Data'!$S$10:$S$297,'Budget Filing Data'!$G$10:$G$297,'1 Participant Bill Impacts'!$C21,'Budget Filing Data'!$B$10:$B$297,'1 Participant Bill Impacts'!$B21) -> 1026241.3 | F21: =SUMIFS('Budget Filing Data'!BA$10:BA$297,'Budget Filing Data'!$G$10:$G$297,'1 Participant Bill Impacts'!$C21,'Budget Filing Data'!$B$10:$B$297,'1 Participant Bill Impacts'!$B21) -> 44434569 | G21: =SUMIFS('Budget Filing Data'!BB$10:BB$297,'Budget Filing Data'!$G$10:$G$297,'1 Participant Bill Impacts'!$C21,'Budget Filing Data'!$B$10:$B$297,'1 Participant Bill Impacts'!$B21) -> 2365727.6 | H21: =F21+G21 -> 46800297 | I21: =F21/D21 -> 0.4193841 | J21: =G21/E21 -> 2.3052352
B22: Reference: 2024 | C22: Commercial | D22: -4250448.5 | E22: 1590930.2 | F22: -1466546.4 | G22: 1122502.3 | H22: =F22+G22 -> -344044.06 | I22: =F22/D22 -> 0.34503333 | J22: =G22/E22 -> 0.70556355
B23: 2028 | C23: Commercial | D23: =SUMIFS('Budget Filing Data'!$Q$10:$Q$297,'Budget Filing Data'!$G$10:$G$297,'1 Participant Bill Impacts'!$C23,'Budget Filing Data'!$B$10:$B$297,'1 Participant Bill Impacts'!$B23) -> 20748703 | E23: =SUMIFS('Budget Filing Data'!$S$10:$S$297,'Budget Filing Data'!$G$10:$G$297,'1 Participant Bill Impacts'!$C23,'Budget Filing Data'!$B$10:$B$297,'1 Participant Bill Impacts'!$B23) -> 1241617.3 | F23: =SUMIFS('Budget Filing Data'!BA$10:BA$297,'Budget Filing Data'!$G$10:$G$297,'1 Participant Bill Impacts'!$C23,'Budget Filing Data'!$B$10:$B$297,'1 Participant Bill Impacts'!$B23) -> 6253012.8 | G23: =SUMIFS('Budget Filing Data'!BB$10:BB$297,'Budget Filing Data'!$G$10:$G$297,'1 Participant Bill Impacts'!$C23,'Budget Filing Data'!$B$10:$B$297,'1 Participant Bill Impacts'!$B23) -> 1353887.2 | H23: =F23+G23 -> 7606900 | I23: =F23/D23 -> 0.30136886 | J23: =G23/E23 -> 1.0904223
B24: 2029 | C24: Commercial | D24: =SUMIFS('Budget Filing Data'!$Q$10:$Q$297,'Budget Filing Data'!$G$10:$G$297,'1 Participant Bill Impacts'!$C24,'Budget Filing Data'!$B$10:$B$297,'1 Participant Bill Impacts'!$B24) -> 15824022 | E24: =SUMIFS('Budget Filing Data'!$S$10:$S$297,'Budget Filing Data'!$G$10:$G$297,'1 Participant Bill Impacts'!$C24,'Budget Filing Data'!$B$10:$B$297,'1 Participant Bill Impacts'!$B24) -> 1189255.4 | F24: =SUMIFS('Budget Filing Data'!BA$10:BA$297,'Budget Filing Data'!$G$10:$G$297,'1 Participant Bill Impacts'!$C24,'Budget Filing Data'!$B$10:$B$297,'1 Participant Bill Impacts'!$B24) -> 5103690.9 | G24: =SUMIFS('Budget Filing Data'!BB$10:BB$297,'Budget Filing Data'!$G$10:$G$297,'1 Participant Bill Impacts'!$C24,'Budget Filing Data'!$B$10:$B$297,'1 Participant Bill Impacts'!$B24) -> 1305737.3 | H24: =F24+G24 -> 6409428.2 | I24: =F24/D24 -> 0.32252806 | J24: =G24/E24 -> 1.0979452
B25: 2030 | C25: Commercial | D25: =SUMIFS('Budget Filing Data'!$Q$10:$Q$297,'Budget Filing Data'!$G$10:$G$297,'1 Participant Bill Impacts'!$C25,'Budget Filing Data'!$B$10:$B$297,'1 Participant Bill Impacts'!$B25) -> 15780868 | E25: =SUMIFS('Budget Filing Data'!$S$10:$S$297,'Budget Filing Data'!$G$10:$G$297,'1 Participant Bill Impacts'!$C25,'Budget Filing Data'!$B$10:$B$297,'1 Participant Bill Impacts'!$B25) -> 1186309.2 | F25: =SUMIFS('Budget Filing Data'!BA$10:BA$297,'Budget Filing Data'!$G$10:$G$297,'1 Participant Bill Impacts'!$C25,'Budget Filing Data'!$B$10:$B$297,'1 Participant Bill Impacts'!$B25) -> 5232092.1 | G25: =SUMIFS('Budget Filing Data'!BB$10:BB$297,'Budget Filing Data'!$G$10:$G$297,'1 Participant Bill Impacts'!$C25,'Budget Filing Data'!$B$10:$B$297,'1 Participant Bill Impacts'!$B25) -> 1327006.1 | H25: =F25+G25 -> 6559098.2 | I25: =F25/D25 -> 0.33154653 | J25: =G25/E25 -> 1.1186005
B26: 2031 | C26: Commercial | D26: =SUMIFS('Budget Filing Data'!$Q$10:$Q$297,'Budget Filing Data'!$G$10:$G$297,'1 Participant Bill Impacts'!$C26,'Budget Filing Data'!$B$10:$B$297,'1 Participant Bill Impacts'!$B26) -> 15764668 | E26: =SUMIFS('Budget Filing Data'!$S$10:$S$297,'Budget Filing Data'!$G$10:$G$297,'1 Participant Bill Impacts'!$C26,'Budget Filing Data'!$B$10:$B$297,'1 Participant Bill Impacts'!$B26) -> 1170559.8 | F26: =SUMIFS('Budget Filing Data'!BA$10:BA$297,'Budget Filing Data'!$G$10:$G$297,'1 Participant Bill Impacts'!$C26,'Budget Filing Data'!$B$10:$B$297,'1 Participant Bill Impacts'!$B26) -> 5371986.2 | G26: =SUMIFS('Budget Filing Data'!BB$10:BB$297,'Budget Filing Data'!$G$10:$G$297,'1 Participant Bill Impacts'!$C26,'Budget Filing Data'!$B$10:$B$297,'1 Participant Bill Impacts'!$B26) -> 1335220.3 | H26: =F26+G26 -> 6707206.4 | I26: =F26/D26 -> 0.34076113 | J26: =G26/E26 -> 1.1406682
B27: Reference: 2024 | C27: Industrial | D27: 4173304.7 | E27: 378283.09 | F27: 1336257.4 | G27: 22450.285 | H27: =F27+G27 -> 1358707.7 | I27: =F27/D27 -> 0.32019167 | J27: =G27/E27 -> 0.059347843
B28: 2028 | C28: Industrial | D28: =SUMIFS('Budget Filing Data'!$Q$10:$Q$297,'Budget Filing Data'!$G$10:$G$297,'1 Participant Bill Impacts'!$C28,'Budget Filing Data'!$B$10:$B$297,'1 Participant Bill Impacts'!$B28) -> 19396363 | E28: =SUMIFS('Budget Filing Data'!$S$10:$S$297,'Budget Filing Data'!$G$10:$G$297,'1 Participant Bill Impacts'!$C28,'Budget Filing Data'!$B$10:$B$297,'1 Participant Bill Impacts'!$B28) -> 219159.83 | F28: =SUMIFS('Budget Filing Data'!BA$10:BA$297,'Budget Filing Data'!$G$10:$G$297,'1 Participant Bill Impacts'!$C28,'Budget Filing Data'!$B$10:$B$297,'1 Participant Bill Impacts'!$B28) -> 6608357.5 | G28: =SUMIFS('Budget Filing Data'!BB$10:BB$297,'Budget Filing Data'!$G$10:$G$297,'1 Participant Bill Impacts'!$C28,'Budget Filing Data'!$B$10:$B$297,'1 Participant Bill Impacts'!$B28) -> 272455.52 | H28: =F28+G28 -> 6880813 | I28: =F28/D28 -> 0.34070086 | J28: =G28/E28 -> 1.2431818
B29: 2029 | C29: Industrial | D29: =SUMIFS('Budget Filing Data'!$Q$10:$Q$297,'Budget Filing Data'!$G$10:$G$297,'1 Participant Bill Impacts'!$C29,'Budget Filing Data'!$B$10:$B$297,'1 Participant Bill Impacts'!$B29) -> 18676363 | E29: =SUMIFS('Budget Filing Data'!$S$10:$S$297,'Budget Filing Data'!$G$10:$G$297,'1 Participant Bill Impacts'!$C29,'Budget Filing Data'!$B$10:$B$297,'1 Participant Bill Impacts'!$B29) -> 196659.83 | F29: =SUMIFS('Budget Filing Data'!BA$10:BA$297,'Budget Filing Data'!$G$10:$G$297,'1 Participant Bill Impacts'!$C29,'Budget Filing Data'!$B$10:$B$297,'1 Participant Bill Impacts'!$B29) -> 6565018 | G29: =SUMIFS('Budget Filing Data'!BB$10:BB$297,'Budget Filing Data'!$G$10:$G$297,'1 Participant Bill Impacts'!$C29,'Budget Filing Data'!$B$10:$B$297,'1 Participant Bill Impacts'!$B29) -> 251777.37 | H29: =F29+G29 -> 6816795.3 | I29: =F29/D29 -> 0.3515148 | J29: =G29/E29 -> 1.2802684
B30: 2030 | C30: Industrial | D30: =SUMIFS('Budget Filing Data'!$Q$10:$Q$297,'Budget Filing Data'!$G$10:$G$297,'1 Participant Bill Impacts'!$C30,'Budget Filing Data'!$B$10:$B$297,'1 Participant Bill Impacts'!$B30) -> 18001363 | E30: =SUMIFS('Budget Filing Data'!$S$10:$S$297,'Budget Filing Data'!$G$10:$G$297,'1 Participant Bill Impacts'!$C30,'Budget Filing Data'!$B$10:$B$297,'1 Participant Bill Impacts'!$B30) -> 174159.83 | F30: =SUMIFS('Budget Filing Data'!BA$10:BA$297,'Budget Filing Data'!$G$10:$G$297,'1 Participant Bill Impacts'!$C30,'Budget Filing Data'!$B$10:$B$297,'1 Participant Bill Impacts'!$B30) -> 6530123.8 | G30: =SUMIFS('Budget Filing Data'!BB$10:BB$297,'Budget Filing Data'!$G$10:$G$297,'1 Participant Bill Impacts'!$C30,'Budget Filing Data'!$B$10:$B$297,'1 Participant Bill Impacts'!$B30) -> 229615.03 | H30: =F30+G30 -> 6759738.8 | I30: =F30/D30 -> 0.36275719 | J30: =G30/E30 -> 1.3184155
