Workbook
Name _ftn1: 'Appendix 3'!$A$28
Name _ftn1: 'Appendix 4'!$A$29
Name _ftnref1: 'Appendix 3'!$C$4
Name _ftnref1: 'Appendix 4'!$C$4

Sheet TOC
A1: SDG&E Post-Event Report Data Workbook
A2: Public Safety Power Shutoff Post-Event Report: October 2-October 4, 2026
A4: FILE DESCRIPTION
A5: This file includes all tables and appendices from the Post Event Report submitted following the De-energization Event.
A6: TABLE OF CONTENTS
A7: SECTION 1: Executive Summary
A8: ='Table 1-1'!A3 -> Table 1-1: PSPS Event Summary
A9: SECTION 2: Decision Making Process
A10: ='Table 2-1'!A3 -> Table 2-1: Factors Considered in the Decision to Shut Off Power
A11: SECTION 3: De-energized Time, Place, Duration and Customers
A12: ='Table 3-1'!A3 -> Table 3-1: Circuits De-energized
A13: SECTION 4: Damage and Hazards to Overhead Facilities
A14: ='Table 4-1'!A3 -> Table 4-1: Damages and Hazards
A15: SECTION 5: Notifications
A16: ='Table 5-1'!A3 -> Table 5-1: Positive Notification
A17: ='Table 5-2'!A3 -> Table 5-2: Notification Failures
A18: SECTION 6: Local and State Public Safety Partner Engagement
A19: ='Table 6-1'!A3 -> Table 6-1: Public Safety Partners Contacted
A20: ='Table 6-2'!A3 -> Table 6-2: List of Entities Invited to State Executive Briefing Calls
A21: ='Table 6-3'!A3 -> Table 6-3: Services Provided to Customers with AFN
A22: ='Table 6-4'!A3 -> Table 6-4: Backup Power – Description, Number, Capacity, and Estimated Maximum Duration
A23: SECTION 7: Complaints and Claims
A24: ='Table 7-1'!A3 -> Table 7-1: Number and Nature of Complaints Received
A25: ='Table 7-2'!A3 -> Table 7-2: Claims Filed Against SDG&E Due to De-energization
A26: SECTION 8: Power Restoration
A27: ='Table 8-1'!A3 -> Table 8-1: Circuits requiring more than 24 hours to restore
A28: SECTION 9: Community Resource Centers
A29: ='Table 9-1'!A3 -> Table 9-1: Community Resource Centers
A30: SECTION 10: Mitigations to Reduce Impact
A31: ='Table 10-1'!A3 -> Table 10-1: Summary of Avoided Customer Impacts
A32: ='Table 10-2'!A3 -> Table 10-2: Summary of Avoided Customer Impacts by Circuit
A33: ='Table 10-3'!A3 -> Table 10-3: Summary of Customers Served by Microgrids
A34: SECTION 11: Lessons Learned from this Event
A35: ='Table 11-1'!A3 -> Table 11-1: Lessons Learned from PSPS Event
A36: APPENDIX
A37: ='Appendix 1'!A2 -> Appendix 1 – Customer Notifications: Descriptions, Dates, Times, and Scripts of Notifications
A38: ='Appendix 2-1'!A2 -> Appendix 2-1 – Public Safety Partner Notifications: Descriptions, Dates, Times, and Copies of Notifications
A39: ='Appendix 2-2'!A2 -> Appendix 2-2 - CalOES & County OES Warning Center Notfications
A40: ='Appendix 3'!A2 -> Appendix 3 – CPUC Notifications: Descriptions, Dates, Times, and Copies of Notifications
A41: ='Appendix 4'!A2 -> Appendix 4 – AFN Community Based Organization (CBO) Notifications: Descriptions, Dates, Times, and Copies of Notifications

Sheet Table 1-1
A1: =TOC!A2 -> Public Safety Power Shutoff Post-Event Report: October 2-October 4, 2026
A2: Appendix 5: PSPS Event Data Workbook
A3: Table 1-1: PSPS Event Summary
A4: Total Customers Notified | B4: Total Customers De-energized | C4: Total Customers Cancelled | D4: MBL Customers De-energized | E4: Number of Counties De-energized | F4: Number of Tribes De-energized | G4: Critical Facilities and Infrastructure De-energized | H4: Number of Transmission Circuits De-energized | I4: Number of Distribution Circuits in Scope | J4: Number of Distribution Circuits De-energized | K4: Damage/ Hazard Count
A5: 35006 | B5: 18 | C5: 34988 | D5: 1 | E5: 1 | F5: 0 | G5: 0 | H5: 0 | I5: 51 | J5: 1 | K5: 0

Sheet Table 2-1
A1: =TOC!A2 -> Public Safety Power Shutoff Post-Event Report: October 2-October 4, 2026
A2: Appendix 5: PSPS Event Data Workbook
A3: Table 2-1: Factors Considered in the Decision to Shut Off Power
A4: # | B4: Circuit/Device Name | C4: De-energization Date/Time | D4: Restoration Date/Time | E4: Maximum Forecasted Wind Gust Speed During Event (mph) | F4: Sustained Wind Speed at the time of De-energization (mph) | G4: Wind Gust at the time of De-energization (mph) | H4: Maximum Peak Wind Gust during PSPS Event (mph) | I4: Temperature (°F) | J4: Humidity (%) | K4: Moisture | L4: Fire Potential Index1 (FPI) | M4: Temp Config2 (Y/N) | N4: Vegetation Risk Index3 (VRI) | O4: Circuit Risk Index3 (CRI) | P4: Alert Speed4 (mph) | Q4: WiNGS Ops5 (mph) | R4: Wildfire Consequence Score | S4: PSPS Consequence Score | T4: Wildfire/ PSPS Ratio6 | U4: Ok to De-energize Date/Time | V4: De-energization Justification
A5: 1 | B5: 79-799R | C5: 46297.274 | D5: 46297.581 | E5: 48 | F5: 27 | G5: 49 | H5: 56 | I5: 78 | J5: 35 | K5: 0.07 | L5: 15 | M5: N | N5: LOW | O5: LOW | P5: 45 | Q5: 74.5 | R5: 9486.73 | S5: 84802.64 | T5: =R5/S5 -> 0.11186833 | U5: 46297.27 | V5: SDG&E's de-energization decisions are made through a comprehensive evaluation of numerous real-time and forecasted factors, with PSPS employed only as a measure of last resort to ensure public safety. SDG&E’s decisions are not based on a single threshold but on the collective weight of multiple converging risk factors. This device was de-energized due to a combination of the following risk factors: - An FPI rating of 15 (Extreme). - Maximum Forecasted Wind Gust Speed During Event, Wind Gust at the time of De-energization, and Maximum Peak Wind Gust during PSPS Event all exceeded the Alert Speed. Refer to Section 2.4 of the Post-Event Report for additional details.
A7: 1 Fire Potential Index is described in Section 2.2
A8: 2 Temporary Construction and Compliance Poles (TCC) are assessed by Electrical Distribution and Transmission engineering teams before a PSPS activation. They evaluate compliance risks, considering factors like wire distances from objects and pole capacities, and may lower wind gust speed thresholds based on the severity of their findings. Legend (Y*) indicates the presence of one or more TCC poles downstream of the SCADA sectionalizing device, with no change in alert speed due to this TCC condition. Legend (Y**) signifies that the TCC pole(s) downstream of the SCADA sectionalizing device meet the criteria to lower wind gust thresholds.
A9: 3 VRI and CRI provide a relative assessment of vegetation as well as conductor risk for each segment. Methodologies reported in SDG&E's 2021 WMP, Section 4.5.1.
A10: 4 This Alert Speed is the recommended wind gust threshold for initiating de-energization during this specific PSPS activation.
A11: 5 WiNGS Ops provides an estimated wind gust threshold at which the expected wildfire risk exceeds the PSPS risk at each feeder segment. This output incorporates both an estimate of likelihood of the risk as well as consequence. Calculations described in Section 2.4
A12: 6 This ratio depicts the comparison between wildfire consequence score using historical weather events and PSPS consequence score (excludes likelihood of risk). A value greater than 1 means the wildfire risk exceeds the PSPS risk.

Sheet Table 3-1
A1: =TOC!A2 -> Public Safety Power Shutoff Post-Event Report: October 2-October 4, 2026
A2: Appendix 5: PSPS Event Data Workbook
A3: Table 3-1: Circuits De-energized
A4: Distribution/ Transmission | B4: Circuit/ Device Name | C4: County | D4: De-energization Date/Time | E4: Restoration Date/Time | F4: Duration | G4: All clear Date/Time | H4: HFTD Tier | I4: Total Customers | J4: Residential Customers | K4: Commercial/ Industrial Customers | L4: MBL Customers | M4: AFN other than MBL Customers1 | N4: Other Customers
A5: Distribution | B5: 79-799R | C5: San Diego | D5: 46297.274 | E5: 46297.581 | F5: =E5-D5 -> 0.30694444 | G5: 46297.498 | H5: Tier-3 | I5: 18 | J5: 14 | K5: 4 | L5: 1 | M5: 5 | N5: N/A
A7: 1Includes all customers that meet any of the 15 AFN conditions flagged in SDG&E’s customer information system as long as MBL is not the only condition.

Sheet Table 4-1
A1: =TOC!A2 -> Public Safety Power Shutoff Post-Event Report: October 2-October 4, 2026
A2: Appendix 5: PSPS Event Data Workbook
A3: Table 4-1: Damages and Hazards
A4: Circuit/ Device Name | B4: County | C4: Structure Identifier | D4: HFTD Tier | E4: Type of Damage/Hazard
A5: N/A | B5: N/A | C5: N/A | D5: N/A | E5: N/A

Sheet Table 5-1
A1: =TOC!A2 -> Public Safety Power Shutoff Post-Event Report: October 2-October 4, 2026
A2: Appendix 5: PSPS Event Data Workbook
A3: Table 5-1: Positive Notification
A4: Designation | B4: Total Number of Customers | C4: Number of Notification Attempts Made | D4: Timing of Attempts | E4: Who made the Notification Attempt | F4: Successful Positive Notification
A5: Medical Baseline (MBL) in scope | B5: 2439 | C5: 3548 | D5: 9/30/2026 14:42 PDT - 10/01/2026 11:20 PDT | E5: SDGE | F5: 2439
A6: MBL behind a master meter | B6: 48 | C6: 85 | D6: 9/30/2026 14:42 PDT - 9/30/2026 15:43 PDT | E6: SDGE | F6: N/A

Sheet Table 5-2
A1: =TOC!A2 -> Public Safety Power Shutoff Post-Event Report: October 2-October 4, 2026
A2: Appendix 5: PSPS Event Data Workbook
A3: Table 5-2: Notification Failures
A4: Notifications Sent To | B4: Notification Failure Description | C4: Number of Entities or Customer Accounts | D4: Explanation1
A5: Public Safety Partners excluding Critical Facilities and Infrastructure | B5: Entities who did not receive 48- to 72-hour advance notification. | C5: 0
B6: Entities who did not receive 24-48 hour advance notification | C6: 0
B7: Entities who did not receive 1–4-hour imminent notification. | C7: 151 | D7: A 1-4 hour notification was not sent to Public Safety Partners.
B8: Entities who did not receive any notifications before de-energization | C8: 0
B9: Entities who were not notified at de-energization initiation | C9: 0
B10: Entities who were not notified immediately before re-energization | C10: 0
B11: Entities who were not notified when re-energization is complete | C11: 0
B12: Entities who did not receive cancellation notification within two hours of the decision to cancel | C12: 0
A13: Critical Facilities and Infrastructure | B13: Facilities who did not receive 48–72-hour advance notification. | C13: 0 | D13: 12 customers with no contact data
B14: Facilities who did not receive 24-48 hour advance notification | C14: 0 | D14: 12 customers with no contact data
B15: Facilities who did not receive 1-4 hour of imminent notifications. | C15: 0 | D15: 3 customers with no contact data
B16: Facilities who did not receive any notifications before de-energization. | C16: 0
B17: Facilities who were not notified at de-energization initiation. | C17: 0
B18: Facilities who were not notified immediately before re-energization. | C18: 0
B19: Facilities who were not notified when re-energization is complete. | C19: 0
B20: Facilities who did not receive cancellation notification within two hours of the decision to cancel | C20: 0 | D20: 12 customers with no contact data
A21: All Other Affected Customers | B21: Customers who did not receive 24–48-hour advance notifications. | C21: 0 | D21: 58 customers with no contact data
B22: Customers who did not receive 1–4-hour imminent notifications. | C22: 0 | D22: 4 customers with no contact data
B23: Customers who did not receive any notifications before de-energization. | C23: 0
B24: Customers who were not notified at de-energization initiation. | C24: 0
B25: Customers who were not notified immediately before re-energization. | C25: 0
B26: Customers who were not notified when re-energization is complete. | C26: 0
B27: Customers who did not receive cancellation notification within two hours of the decision to cancel | C27: 0 | D27: 58 customers with no contact data
A28: 1Customers who did not provide contact information and therefore did not receive notifications are included in this column. As notification of these customers was impossible due to lack of contact information even after these efforts, SDG&E is including them for awareness but does not consider them notification “failures” for compliance purposes. As addressed in Section 5.6, numerous efforts are made to obtain contact information for customers to support their PSPS preparedness and comply with notification requirements.

Sheet Table 6-1
A1: =TOC!A2 -> Public Safety Power Shutoff Post-Event Report: October 2-October 4, 2026
A2: Appendix 5: PSPS Event Data Workbook
A3: Table 6-1: Public Safety Partners Contacted
A4: Jurisdiction/Organization | B4: Title | C4: HFTD Tier | D4: Date/Time Contacted
A5: 2-1-1 San Diego | B5: Duty Officer | C5: Non-HFTD|Tier-2|Tier-3|Zone-1 | D5: 2026-09-30 11:27:30; 2026-09-30 14:21:12; 2026-10-01 10:27:50; 2026-10-02 07:35:10; 2026-10-02 08:56:29; 2026-10-02 13:41:24; 2026-10-02 14:23:16; 2026-10-03 16:41:53; 2026-10-04 11:17:42
A6: 2-1-1 San Diego | B6: Sr. Programs Manager | C6: Non-HFTD|Tier-2|Tier-3|Zone-1 | D6: 2026-09-30 11:27:30; 2026-09-30 14:21:12; 2026-10-01 10:27:50; 2026-10-02 07:35:10; 2026-10-02 08:56:29; 2026-10-02 13:41:24; 2026-10-02 14:23:16; 2026-10-03 16:41:53; 2026-10-04 11:17:42
A7: Alvarado Hospital | B7: Building Engineer | C7: Tier-2|Tier-3 | D7: 2026-09-30 11:27:30; 2026-09-30 14:21:12; 2026-10-01 10:27:50; 2026-10-02 07:35:10; 2026-10-02 08:56:29; 2026-10-02 13:41:24; 2026-10-02 14:23:16; 2026-10-03 16:41:53; 2026-10-04 11:17:42
A8: Alvarado Hospital | B8: NOT UNDER AHMC/ASSISTANT PROPERTY MANAGER | C8: Tier-2|Tier-3 | D8: 2026-09-30 11:27:30; 2026-09-30 14:21:12; 2026-10-01 10:27:50; 2026-10-02 07:35:10; 2026-10-02 08:56:29; 2026-10-02 13:41:24; 2026-10-02 14:23:16; 2026-10-03 16:41:53; 2026-10-04 11:17:42
A9: Alvarado Hospital | B9: NOT UNDER AHMC/PROPERTY MANAGER | C9: Tier-2|Tier-3 | D9: 2026-09-30 11:27:30; 2026-09-30 14:21:12; 2026-10-01 10:27:50; 2026-10-02 07:35:10; 2026-10-02 08:56:29; 2026-10-02 13:41:24; 2026-10-02 14:23:16; 2026-10-03 16:41:53; 2026-10-04 11:17:42
A10: American Red Cross of Orange County | B10: Regional Disaster Officer | C10: Non-HFTD|Tier-2|Tier-3|Zone-1 | D10: 2026-09-30 11:27:30; 2026-09-30 14:21:12; 2026-10-01 10:27:50; 2026-10-02 07:35:10; 2026-10-02 08:56:29; 2026-10-02 13:41:24; 2026-10-02 14:23:16; 2026-10-03 16:41:53; 2026-10-04 11:17:42
A11: American Red Cross San Diego Region | B11: Community Disaster Program Manager | C11: Non-HFTD|Tier-2|Tier-3|Zone-1 | D11: 2026-09-30 11:27:30; 2026-09-30 14:21:12; 2026-10-01 10:27:50; 2026-10-02 07:35:10; 2026-10-02 08:56:29; 2026-10-02 13:41:24; 2026-10-02 14:23:16; 2026-10-03 16:41:53; 2026-10-04 11:17:42
A12: American Red Cross San Diego Region | B12: Disaster Program Manager | C12: Non-HFTD|Tier-2|Tier-3|Zone-1 | D12: 2026-09-30 11:27:30; 2026-09-30 14:21:12; 2026-10-01 10:27:50; 2026-10-02 07:35:10; 2026-10-02 08:56:29; 2026-10-02 13:41:24; 2026-10-02 14:23:16; 2026-10-03 16:41:53; 2026-10-04 11:17:42
A13: American Red Cross San Diego Region | B13: Disaster Program Manager | C13: Non-HFTD|Tier-2|Tier-3|Zone-1 | D13: 2026-09-30 11:27:30; 2026-09-30 14:21:12; 2026-10-01 10:27:50; 2026-10-02 07:35:10; 2026-10-02 08:56:29; 2026-10-02 13:41:24; 2026-10-02 14:23:16; 2026-10-03 16:41:53; 2026-10-04 11:17:42
A14: AT&T | B14: Area Manager | C14: Non-HFTD|Tier-2|Tier-3|Zone-1 | D14: 2026-09-30 11:27:30; 2026-09-30 14:21:12; 2026-10-01 10:27:50; 2026-10-02 07:35:10; 2026-10-02 08:56:29; 2026-10-02 13:41:24; 2026-10-02 14:23:16; 2026-10-03 16:41:53; 2026-10-04 11:17:42
A15: AT&T | B15: Client Director | C15: Non-HFTD|Tier-2|Tier-3|Zone-1 | D15: 2026-09-30 11:27:30; 2026-09-30 14:21:12; 2026-10-01 10:27:50; 2026-10-02 07:35:10; 2026-10-02 08:56:29; 2026-10-02 13:41:24; 2026-10-02 14:23:16; 2026-10-03 16:41:53; 2026-10-04 11:17:42
... A1010: Yuima Municipal Water District | B1010: Manager | C1010: Non-HFTD|Tier-2|Tier-3|Zone-1 | D1010: 2026-09-30 11:27:30; 2026-09-30 14:21:12; 2026-10-01 10:27:50; 2026-10-02 07:35:10; 2026-10-02 08:56:29; 2026-10-02 13:41:24; 2026-10-02 14:23:16; 2026-10-03 16:41:53; 2026-10-04 11:17:42

Sheet Table 6-2
A1: =TOC!A2 -> Public Safety Power Shutoff Post-Event Report: October 2-October 4, 2026
A2: Section 6 – Local and State Public Safety Partner Engagement
A3: Table 6-2: List of Entities Invited to State Executive Briefing Calls
A4: Entity Name | B4: Type
A5: AT&T | B5: Critical Facilities and Infrastructure & Public Safety Partner
A6: Barona Band Mission Indians | B6: Critical Facilities and Infrastructure & Public Safety Partner
A7: Bonsall Unified School District | B7: Critical Facilities and Infrastructure
A8: California Department of Forestry and Fire Protection | B8: Critical Facilities and Infrastructure & Public Safety Partner
A9: California Department of Parks and Recreation | B9: Critical Facilities and Infrastructure & Public Safety Partner
A10: California Highway Patrol | B10: Critical Facilities and Infrastructure & Public Safety Partner
A11: Caltrans | B11: Critical Facilities and Infrastructure & Public Safety Partner
A12: Campo Band of Kumeyaay Indians | B12: Critical Facilities and Infrastructure & Public Safety Partner
A13: Charter Communications | B13: Critical Facilities and Infrastructure & Public Safety Partner
A14: City of Escondido | B14: Critical Facilities and Infrastructure & Public Safety Partner
A15: City of San Diego | B15: Critical Facilities and Infrastructure & Public Safety Partner
... A78: Yuima Municipal Water District | B78: Critical Facilities and Infrastructure & Public Safety Partner

Sheet Table 6-3
A1: =TOC!A2 -> Public Safety Power Shutoff Post-Event Report: October 2-October 4, 2026
A2: Appendix 5: PSPS Event Data Workbook
A3: Table 6-3: Services Provided to Customers with AFN
A4: Type of Service | B4: Number Provided
A5: 211 calls received for PSPS Information & Referral | B5: 64
A6: Over Night Hotel Stays (AFN) | B6: 0
A7: Over Night Hotel Stays (non-AFN) | B7: 0
A8: Emergency Battery Provided | B8: 14
A9: Accessible Transportations Trips | B9: 0

Sheet Table 6-4
A1: =TOC!A2 -> Public Safety Power Shutoff Post-Event Report: October 2-October 4, 2026
A2: Appendix 5: PSPS Event Data Workbook
A3: Table 6-4: Backup Power – Description, Number, Capacity, and Estimated Maximum Duration
A4: # | B4: Location | C4: Community Generator Program Site | D4: # of Customers | E4: Critical Facility and Infrastructure Customers | F4: # of Gens or Batteries | G4: Type of Backup Power | H4: Generator/ Battery Size | I4: Fuel Type | J4: Maximum Duration of Operation | K4: Actual PSPS Operation Status
A5: 1 | B5: Butterfield Ranch 14926 Great Southern Overland Stage Route Julian, CA 92036 | C5: Butterfield Ranch Microgrid | D5: 115 | E5: Butterfield Manufactured Home & RV Community; water wells infrastructure; sewage infrastructure | F5: 3 | G5: Generator | H5: 300 kVA | I5: Diesel | J5: 0 | K5: Staged but not run
A6: =A5+1 -> 2 | B6: Cameron Corners 1339 Buckman Springs Rd Campo, CA 91906 | C6: Cameron Corners Microgrid | D6: 18 | E6: CAL FIRE; ATT telecom hub; library – cool zone; San Ysidro Health Center; schools; food and markets; gas stations | F6: 2 | G6: Generator | H6: 300 kVA | I6: Diesel | J6: 0 | K6: Staged but not run
A7: =A6+1 -> 3 | B7: La Posta Emergency Center 8 Crestwood Road Boulevard, CA 91905 | C7: La Posta Tribal Association Building | D7: 1 | E7: La Posta Emergency Center - Government and Community Resource Center | F7: 1 | G7: Generator | H7: 70 kVA | I7: Diesel | J7: 0 | K7: Staged but not run
A8: =A7+1 -> 4 | B8: Lake Morena Community Church - CRC 29765 Oak Drive Campo, CA 91906 | C8: Lake Morena Community Church - CRC | D8: 1 | E8: CRC - Community Resource Center | F8: 1 | G8: Generator | H8: 125 kVA | I8: Diesel | J8: 0 | K8: Staged but not run
A9: =A8+1 -> 5 | B9: Live Oaks Market 37820 Old Hwy 80 Boulevard, CA 91905 | C9: Live Oaks Market & Restaurant | D9: 1 | E9: Food and market; restaurant; gas station | F9: 1 | G9: Generator | H9: 70 kVA | I9: Diesel | J9: 0 | K9: Staged but not run
A10: =A9+1 -> 6 | B10: Mountain Top Market & Gas 39710 Old Hwy 80 Boulevard, CA 91905 | C10: Mountain Top Market & Gas | D10: 1 | E10: Food and market; gas station | F10: 1 | G10: Generator | H10: 70 kVA | I10: Diesel | J10: 0 | K10: Staged but not run
A11: =A10+1 -> 7 | B11: Potrero Community Center - CRC 24550 Hwy 94 Potrero, CA 91963 | C11: Potrero Community Center CRC | D11: 1 | E11: CRC - Community Resource Center | F11: 1 | G11: Generator | H11: 70 kVA | I11: Diesel | J11: 0 | K11: Staged but not run
A12: =A11+1 -> 8 | B12: Ramona Library - CRC 1275 Main Street Ramona, CA 92065 | C12: Ramona Library CRC | D12: 1 | E12: CRC - Community Resource Center | F12: 1 | G12: Generator | H12: 70 kVA | I12: Diesel | J12: 0 | K12: Staged but not run
A13: =A12+1 -> 9 | B13: Shelter Valley 7878 Great Southern Overland Stage Route Julian, CA 92036 | C13: Shelter Valley Microgrid | D13: 220 | E13: Stagecoach Trails Campground & RV Park; SD County fire station; library; water wells infrastructure; sewage infrastructure | F13: 3 | G13: Generator | H13: 300 kVA | I13: Diesel | J13: 0 | K13: Staged but not run
A14: =A13+1 -> 10 | B14: Valley Center Library - CRC 29200 Cole Grade Rd. Valley Center, CA 92082 | C14: Valley Center Library CRC | D14: 1 | E14: CRC - Community Resource Center | F14: 1 | G14: Generator | H14: 125 kVA | I14: Diesel | J14: 0 | K14: Staged but not run
A15: =A14+1 -> 11 | B15: Whispering Winds - CRC Catholic - Camp Resource Center Building 17606 Harrison Park Rd. Julian, CA 92036 | C15: Julian CRC Whispering Winds | D15: 1 | E15: CRC - Community Resource Center | F15: 1 | G15: Generator | H15: 125 kVA | I15: Diesel | J15: 0 | K15: Staged but not run
A16: =A15+1 -> 12 | B16: Whispering Winds - CRC Catholic Camp Pump Station 17606 Harrison Park Rd. Julian, CA 92036 | C16: Julian CRC Whispering Winds | D16: 1 | E16: CRC - Community Resource Center | F16: 1 | G16: Generator | H16: 70 kVA | I16: Diesel | J16: 0 | K16: Staged but not run

Sheet Table 7-1
A1: =TOC!A2 -> Public Safety Power Shutoff Post-Event Report: October 2-October 4, 2026
A2: Appendix 5: PSPS Event Data Workbook
A3: Table 7-1: Number and Nature of Complaints Received
A4: Nature of Complaint | B4: Number of Complaints
A5: PSPS Frequency/Duration Including, but not limited to complaints regarding the frequency and/or duration of PSPS events, delays in restoring power, scope of PSPS and dynamic of weather conditions | B5: 10
A6: Safety/Health Concern Including, but not limited to complaints regarding difficulties experienced by AFN/MBL populations, traffic accidents due to non-operating traffic lights, inability to get medical help, well water or access to clean water, inability to keep property cool/warm during outage raising health concern | B6: 13
A7: Communications/Notifications Including, but not limited to complaints regarding lack of notice, excessive notices, confusing notice, false alarm notice, problems with getting up-to-date information, inaccurate information provided, not being able to get information in the prevalent languages and/or information accessibility, complaints about website, Public Safety Partner Portal, REST/DAM sites (as applicable) | B7: 4
A8: Outreach/Assistance Including, but not limited to complaints regarding community resource centers, community crew vehicles, backup power, hotel vouchers, other assistance provided by utility to mitigate impact of PSPS | B8: 0
A9: General PSPS Dissatisfaction/Other Including, but not limited to complaints about being without power during PSPS event and related hardships such as food loss, income loss, inability to work/attend school, plus any PSPS-related complaints that do not fall into any other category | B9: 6
A10: Total: | B10: =SUM(B5:B9) -> 33

Sheet Table 7-2
A1: =TOC!A2 -> Public Safety Power Shutoff Post-Event Report: October 2-October 4, 2026
A2: Appendix 5: PSPS Event Data Workbook
A3: Table 7-2: Claims Filed Against SDG&E Due to De-energization
A4: Nature of Claim | B4: Number of Claims
A5: Property Damage | B5: 0
A6: Solar Related | B6: 0
A7: Food Loss | B7: 0
A8: Inconvenience of Being Without Power | B8: 0
A9: Business Loss | B9: 0
A10: Hotel Stays | B10: 0
A11: Generator | B11: 0
A12: Total: | B12: =SUM(B5:B11) -> 0

Sheet Table 8-1
A1: =TOC!A2 -> Public Safety Power Shutoff Post-Event Report: October 2-October 4, 2026
A2: Appendix 5: PSPS Event Data Workbook
A3: Table 8-1: Circuits requiring more than 24 hours to restore
A4: Circuit Name | B4: Reason the Utility was Unable to Restore the Circuit Within 24 Hours
A5: N/A | B5: N/A

Sheet Table 9-1
A1: =TOC!A2 -> Public Safety Power Shutoff Post-Event Report: October 2-October 4, 2026
A2: Appendix 5: PSPS Event Data Workbook
A3: Table 9-1: Community Resource Centers
A4: # | B4: County | C4: Site Name | D4: Address | E4: Operating Hours | F4: Attendance | G4: Site Type | H4: Amenities Provided | I4: Communities, Time Places, or Potential Circuits Supported
A5: 1 | B5: San Diego | C5: Descanso Branch Library | D5: 9545 River Dr, Descanso, CA 91916 | E5: 10/2/2026 08:00 to 15:22 | F5: 7 | G5: Brick & Mortar | H5: Water, WiFi, medical device charging, snacks, phone charging, ice, water truck, solar power bank, and up-to-date information on outages. | I5: Descanso, Circuit 79

Sheet Table 10-1
A1: =TOC!A2 -> Public Safety Power Shutoff Post-Event Report: October 2-October 4, 2026
A2: Appendix 5: PSPS Event Data Workbook
A3: Table 10-1: Summary of Avoided Customer Impacts
A4: Mitigation Action | B4: Avoided Impacts
A5: Sectionalizing | B5: 591
A6: Temporary Backup Power | B6: 19
A7: Permanent Backup Power | B7: 9
A8: Situational Awareness | B8: 13135
A9: Total: | B9: 13754

Sheet Table 10-2
A1: =TOC!A2 -> Public Safety Power Shutoff Post-Event Report: October 2-October 4, 2026
A2: Appendix 5: PSPS Event Data Workbook
A3: Table 10-2: Summary of Avoided Customer Impacts by Circuit
A4: Circuit | B4: Avoided Impacts
A5: 75 | B5: 681
A6: 79 | B6: 889
A7: 91 | B7: 1449
A8: 96 | B8: 2386
A9: 211 | B9: 279
A10: 215 | B10: 2
A11: 220 | B11: 308
A12: 221 | B12: 1665
A13: 222 | B13: 1469
A14: 235 (RA1, RA2) | B14: 5
A15: 237 | B15: 134
A16: 443 | B16: 4
A17: 445 | B17: 568
A18: 448 | B18: 1
A19: 463 | B19: 18
A20: 524 | B20: 1782
A21: 533 | B21: 113
A22: 907 | B22: 1
A23: 908 | B23: 2
A24: 970 | B24: 1
A25: 972 | B25: 3
A26: 1021 | B26: 1
... A31: 1458 | B31: 1
A32: Total | B32: 13754

Sheet Table 10-3
A1: =TOC!A2 -> Public Safety Power Shutoff Post-Event Report: October 2-October 4, 2026
A2: Appendix 5: PSPS Event Data Workbook
A3: Table 10-3: Summary of Customers Served by Microgrids
A4: Microgrid Location | B4: Total Customers
A5: N/A | B5: N/A

Sheet Table 11-1
A1: =TOC!A2 -> Public Safety Power Shutoff Post-Event Report: October 2-October 4, 2026
A2: Appendix 5: PSPS Event Data Workbook
A3: Table 11-1: Lessons Learned from PSPS Event
A4: Issue | B4: Discussion | C4: Resolution
A5: EOC Responder Staffing | B5: Some EOC positions experienced challenges with responder availability during activation periods. | C5: EOC staffing levels will be reviewed and a staffing plan implemented that incorporates hiring, training, and responder recruitment to support operational needs.
A6: State Executive Briefing Process | B6: Existing Cal OES State Executive Briefing procedures do not fully align with PSPS events involving additional de-energization potential following re-energization. The briefing process also required information already available through established channels, including the Partner Portal, GIS data sharing, SDGE.com, and stakeholder email notifications, resulting in duplicative reporting and information that may not reflect the most current operational status. | C6: SDG&E will coordinate with CalOES to streamline reporting processes and leverage existing real-time information channels to support situational awareness.

Sheet Appendix 1
A1: =TOC!A2 -> Public Safety Power Shutoff Post-Event Report: October 2-October 4, 2026
A2: Appendix 1 – Customer Notifications: Descriptions, Dates, Times, and Scripts of Notifications
C4: Overview of Communications by Method1
C5: Notification Method | D5: Total Notifications | E5: Who Made the Notification
C6: Email | D6: =G29 -> 113534 | E6: SDG&E
C7: Voice | D7: =H29 -> 119400 | E7: SDG&E
C8: Text Message | D8: =I29 -> 109850 | E8: SDG&E
C9: Total: | D9: =J29 -> 342784
A11: Customer Notifications: Detailed Communications1
A12: Count of Notifications by M Message
A13: Event Order | B13: Description of Notification2 | C13: Required Minimum Timeline2 | D13: Date | E13: Time of First Notification | F13: Time of Last Notification | G13: Email | H13: Voice | I13: Text Message | J13: Total Sent
A14: Pre De-energization (Prior) | B14: M2: 24-48 hours prior to a PSPS (Outage Warning) | C14: 48–24 hours | D14: 46295 | E14: 46295.613 | F14: 46295.613 | G14: 26685 | H14: 28655 | I14: 26066 | J14: =SUM(G14:I14) -> 81406
B15: M2a: Secondary 24-48 hours prior to PSPS (Outage Warning) | C15: 48-24 hours | D15: 46296 | E15: 46296.451 | F15: 46298.748 | G15: 58999 | H15: 60864 | I15: 56065 | J15: =SUM(G15:I15) -> 175928
B16: M2-MBL: 24-48 hours prior to PSPS (Outage Warning)3 | C16: 48-24 hours | D16: 46295 | E16: 46295.655 | F16: 46295.655 | G16: 0 | H16: 0 | I16: 556 | J16: =SUM(G16:I16) -> 556
B17: M3: 12 hours prior to PSPS (Outage Warning) | C17: N/A | D17: N/A | E17: N/A | F17: N/A | G17: N/A | H17: N/A | I17: N/A | J17: N/A
B18: M4: Within 4 hours prior to PSPS (Outage Warning) | C18: 1–4 hours prior to PSPS (if possible) | D18: 46297 | E18: 46297.209 | F18: 46297.97 | G18: 925 | H18: 962 | I18: 868 | J18: =SUM(G18:I18) -> 2755
A19: Initiation (During) | B19: M6: PSPS Confirmed - Power is Out | C19: When de-energization is initiated | D19: 46297 | E19: 46297.278 | F19: 46297.278 | G19: 13 | H19: 16 | I19: 14 | J19: =SUM(G19:I19) -> 43
B20: M9: PSPS risk continues power remains off | C20: N/A | D20: N/A | E20: N/A | F20: N/A | G20: N/A | H20: N/A | I20: N/A | J20: N/A
B21: M16: Customers Transitioning onto a Microgrid (Outage Warning) | C21: N/A | D21: N/A | E21: N/A | F21: N/A | G21: N/A | H21: N/A | I21: N/A | J21: N/A
A22: Restoration (After) | B22: M10: Safety Inspections of Power Lines Started (Patrolling) | C22: When re-energization efforts begin | D22: 46297 | E22: 46297.495 | F22: 46297.495 | G22: 13 | H22: 16 | I22: 14 | J22: =SUM(G22:I22) -> 43
B23: M11: Power line Inspections damage found | C23: N/A | D23: N/A | E23: N/A | F23: N/A | G23: N/A | H23: N/A | I23: N/A | J23: N/A
B24: M12: Power Restored; However, PSPS risk continues and PSPS possible | C24: When re-energization is complete, but further de-energizations may occur | D24: 46297 | E24: 46297.586 | F24: 46297.586 | G24: 13 | H24: 16 | I24: 14 | J24: =SUM(G24:I24) -> 43
B25: M12a: Power Restored; However, PSPS risk continues and PSPS possible | C25: When re-energization is complete, but further de-energizations may occur | D25: N/A | E25: N/A | F25: N/A | G25: N/A | H25: N/A | I25: N/A | J25: N/A
B26: M17: Conditions Improved Customers Transitioning Off a Microgrid (Outage Alert) | C26: N/A | D26: N/A | E26: N/A | F26: N/A | G26: N/A | H26: N/A | I26: N/A | J26: N/A
B27: M14: PSPS risk passed, If previous notification received, no longer at risk of losing power | C27: When a PSPS event is cancelled | D27: 46298 | E27: 46298.68 | F27: 46299.433 | G27: 26886 | H27: 28871 | I27: 26253 | J27: =SUM(G27:I27) -> 82010
B28: M15: Power Restored (Final Notification)4 | C28: When re-energization is complete | D28: N/A | E28: N/A | F28: N/A | G28: N/A | H28: N/A | I28: N/A | J28: N/A
A29: Totals: | G29: =SUM(G14:G28) -> 113534 | H29: =SUM(H14:H28) -> 119400 | I29: =SUM(I14:I28) -> 109850 | J29: =SUM(G29:I29) -> 342784
A30: 1The total number of notifications does not represent unique customers. Some customers received notifications through multiple channels.
A31: 2Decision 19-05-042, Appendix A, Timing of Notification.
A32: 3M2-MBL represents an additional text-message notification to Medical Baseline (MBL) customers as part of SDG&E’s positive notification process. This notification was not distributed through email or voice channels; accordingly, no email or voice notifications are reported for M2-MBL.
A33: 4M12 and M14 messages were sent in-lieu of M15

Sheet Appendix 2-1
A1: =TOC!A2 -> Public Safety Power Shutoff Post-Event Report: October 2-October 4, 2026
A2: Appendix 2-1 – Public Safety Partner Notifications: Descriptions, Dates, Times, and Copies of Notifications
A4: Event Order | B4: Type of Notification | C4: Recipents | D4: Description | E4: Date/Time Contacted | F4: Who Made the Notification
A5: Pre-de- energization (prior) | B5: 48-72 Hours | C5: Public safety partners including local and tribal governments, water/wastewater, emergency management, communications providers, hospitals and CBOs. | D5: SDG&E Public Safety Power Shutoff Possible in 48-72 Hours | E5: 9/30/2026 at 11:27 a.m. | F5: SDG&E
B6: 24-48 Hours | C6: Public safety partners including local and tribal governments, water/wastewater, emergency management, communications providers, hospitals and CBOs. | D6: SDG&E Public Safety Power Shutoff possible in 24-48 hours. | E6: 9/30/2026 at 2:21 p.m. | F6: SDG&E
B7: Imminent | C7: Public safety partners including local and tribal governments, water/wastewater, emergency management, communications providers, hospitals and CBOs. | D7: SDG&E Public Safety Power Shutoff possible within 12 hours. | E7: 10/1/2026 at 10:27 a.m. | F7: SDG&E
A8: Initiation (during) | B8: De-Energized | C8: Public safety partners including local and tribal governments, water/wastewater, emergency management, communications providers, hospitals and CBOs. | D8: SDG&E has shut off power for public safety | E8: 10/2/2026 at 7:35 a.m. | F8: SDG&E
B9: Update #1 | C9: Public safety partners including local and tribal governments, water/wastewater, emergency management, communications providers, hospitals and CBOs. | D9: SDG&E has shut off power for public safety | E9: N/A | F9: SDG&E
B10: Update #2 | C10: Public safety partners including local and tribal governments, water/wastewater, emergency management, communications providers, hospitals and CBOs. | D10: SDG&E has shut off power for public safety | E10: N/A | F10: SDG&E
B11: Update #3 | C11: Public safety partners including local and tribal governments, water/wastewater, emergency management, communications providers, hospitals and CBOs. | D11: SDG&E has shut off power for public safety, Community Resource Centers to Open | E11: 10/2/2026 at 8:56 a.m. | F11: SDG&E
A12: Restoration (after) | B12: Imminent Re-Energize | C12: Public safety partners including local and tribal governments, water/wastewater, emergency management, communications providers, hospitals and CBOs. | D12: SDG&E power remains turned off for public safety. SDG&E is determining when power can be turned back on. | E12: 10/2/2026 at 1:41 p.m. | F12: SDG&E
B13: Update #4 | C13: Public safety partners including local and tribal governments, water/wastewater, emergency management, communications providers, hospitals and CBOs. | D13: SDG&E has shut off power for public safety. Power will remain out overnight | E13: N/A | F13: SDG&E
B14: Re-Energized | C14: Public safety partners including local and tribal governments, water/wastewater, emergency management, communications providers, hospitals and CBOs. | D14: SDG&E continues to restore power to impacted areas. | E14: 10/2/2026 at 2:23 p.m. | F14: SDG&E
A15: Post-event | B15: Event Concluded | C15: Public safety partners including local and tribal governments, water/wastewater, emergency management, communications providers, hospitals and CBOs. | D15: Final Notification: SDG&E Public Safety Power Shutoff event has ended | E15: 10/3/2026 at 4:41 p.m. | F15: SDG&E
B16: Event concluded - Survey | C16: Public safety partners including local and tribal governments, water/wastewater, emergency management, communications providers, hospitals and CBOs. | D16: SDG&E Survey Request on Recent Public Safety Power Shutoff | E16: 10/4/2026 at 11:17 a.m. | F16: SDG&E

Sheet Appendix 2-2
A1: =TOC!A2 -> Public Safety Power Shutoff Post-Event Report: October 2-October 4, 2026
A2: Appendix 2-2 - CalOES & County OES Warning Center Notfications
A4: Op Period | B4: Notification Type | C4: Time (Of Submission) | D4: Date (Of Request) | E4: Initiated By (Jurisdiction Name) | F4: Information Source | G4: CalOES Confirmation (Rep Name, Time Confirmed) | H4: Message Contents/Notes
A5: 1 | B5: CalOES Form 1 Submission | C5: 1111 hours | D5: 46295 | E5: Shana Rodriguez | F5: Situational Status Unit | G5: John Sanchez, 1113 hours | H5: CalOES Form 1 Submitted at 1111 hours. CalOES - John Sanchez confirmed receipt at 1113 hours. San Diego County OES- Edwin Ulloa confirmed receipt at 1115 hours.
A6: 1 | B6: CalOES Form 2 Submission | C6: 1500 hours | D6: 46295 | E6: Claudia Asmussen | F6: Situational Status Unit | G6: Ethan Lelias, 1501 hours | H6: CalOES Form 2 Submitted at 1500 hours. CalOES- Ethan Lelias confirmed receipt at 1501 hours. San Diego County OES- Edwin Ulloa confirmed receipt at 1502 hours.
A7: 2 | B7: CalOES Form 3 Submission | C7: 0700 hours | D7: 46296 | E7: Claudia Asmussen | F7: Situational Status Unit | G7: John Sanchez, 0703 hours | H7: CalOES Form 3 Submitted at 0700 hours. CalOES- John Sanchez confirmed receipt at 0703 hours. San Diego County OES- Edwin Ulloa confirmed receipt at 0702 hours.
A8: 2 | B8: CalOES Form 4 Submission | C8: 1500 hours | D8: 46296 | E8: Claudia Asmussen | F8: Situational Status Unit | G8: Gus Vega, 1508 hours | H8: CalOES Form 4 Submitted at 1500 hours. CalOES- Gus Vega confirmed receipt at 1508 hours. San Diego County OES- Shannon Nuzzo confirmed receipt at 1510 hours.
A9: 3 | B9: CalOES Form 5 Submission | C9: 0804 hours | D9: 46297 | E9: Sherinna Paguio | F9: Situational Status Unit | G9: Cindy Aguilar, 0809 hours | H9: CalOES Form 5 Submitted at 0804 hours. CalOES- Cindy Aguilar confirmed receipt at 0809 hours. San Diego County OES- Shannon Nuzzo confirmed receipt at 0810 hours.
A10: 3 | B10: CalOES Form 6 Submission | C10: 1500 hours | D10: 46297 | E10: Sherinna Paguio | F10: Situational Status Unit | G10: Benito Soto, 1501 hours | H10: CalOES Form 6 Submitted at 1500 hours. CalOES- Benito Soto confirmed receipt at 1501 hours. San Diego County OES- Shannon Nuzzo confirmed receipt at 1503 hours.
A11: 5 | B11: CalOES Form 7 Submission | C11: 0703 hours | D11: 46298 | E11: Jin Kim | F11: Situational Status Unit | G11: Benito Soto, 0705 hours | H11: CalOES Form 7 Submitted at 0703 hours. CalOES- Benito Soto confirmed receipt at 0705 hours. San Diego County OES- Shannon Nuzzo confirmed receipt at 0707 hours.
A12: 5 | B12: CalOES Form 8 Submission | C12: 1456 hours | D12: 46298 | E12: Jin Kim | F12: Situational Status Unit | G12: Benito Soto, 1458 hours | H12: CalOES Form 8 Submitted at 1456 hours. CalOES- Benito Soto confirmed receipt at 1458 hours. San Diego County OES- Shannon Nuzzo confirmed receipt at 1459 hours.
A13: 5 | B13: CalOES Form 9 Submission | C13: 1520 hours | D13: 46298 | E13: Jin Kim | F13: Situational Status Unit | G13: Benito Soto, 1521 hours | H13: CalOES Form 9 Submitted at 1520 hours. CalOES- Benito Soto confirmedreceipt at 1521 hours. San Diego County OES- Shannon Nuzzo confirmed receipt at 1521 hours.
A14: 7 | B14: CalOES Form 10 Submission | C14: 0700 hours | D14: 46299 | E14: Renee May | F14: Situational Status Unit | G14: Fu Chinh, 0703 hours | H14: CalOES Form 10 Submitted at 0700 hours. CalOES- Fu Chinh confirmed receipt at 0703 hours. San Diego County OES- Shannon Nuzzo confirmed receipt at 0704 hours.
A15: 7 | B15: CalOES Form 11 Submission | C15: 1050 hours | D15: 46299 | E15: Renee May | F15: Situational Status Unit | G15: Benito Soto, 1053 hours | H15: CalOES Form 11 Submitted at 1050 hours.CalOES- Benito Soto confirmed receipt at 1053 hours. San Diego County OES- Shannon Nuzzo confirmed receipt at 1054 hours.
A17: CalOES PSPS Notification Dashboard

Sheet Appendix 3
A1: =TOC!A2 -> Public Safety Power Shutoff Post-Event Report: October 2-October 4, 2026
A2: Appendix 3 – CPUC Notifications: Descriptions, Dates, Times, and Copies of Notifications
A4: Event Order | B4: Type of Notification | C4: Required Minimum Timeline1 | D4: Date/Time Sent | E4: Description of Notification | F4: Who Made the Notification
A5: Pre-de- energization (prior) | B5: Initial Notice for PSPS Event | C5: 72–48 hours | D5: 9/30/2026 at 11:15 PDT | E5: • Weather details and number of potentially impacted customers • Link to SDG&E’s secure public safety partner PSPS Portal to access anticipated timing of de-energization and re-energization, consolidated device information, maps and GIS shapefiles • Time of EOC activation | F5: SDG&E
B6: Initial Notice for PSPS Event | C6: 48–24 hours | D6: 9/30/2026 at 14:02 PDT 10/1/2026 at 10:19 PDT 10/1/2026 at 11:14 PDT | F6: SDG&E
B7: Initial Notice for PSPS Event | C7: 1–4 hours prior to PSPS (if possible) | D7: N/A | F7: SDG&E
A8: Initiation (during) | B8: De-energized | C8: When de-energization is initiated | D8: 10/2/2026 at 07:15 PDT | E8: • Details of current PSPS outages (timing, customer and community impacts) • Anticipated timing of re-energization • Link to SDG&E’s secure public safety partner PSPS Portal to access anticipated timing of de-energization and re-energization, consolidated device information, maps and GIS shapefiles • Removal of customers from scope | F8: SDG&E
B9: Update | C9: Removal from scope | D9: 10/3/2026 at 16:23 PDT | F9: SDG&E
A10: Restoration (after) | B10: Re-energized | C10: When re-energization efforts begin or immediately before re-energization begins | D10: 10/2/2026 at 12:43 PDT | E10: • Details of current PSPS outages (timing, customer and community impacts) • Status of restoration efforts • Anticipated timing of re-energization • Link to SDG&E’s secure public safety partner PSPS Portal to access anticipated timing of de-energization and re-energization, consolidated device information, maps and GIS shapefiles | F10: SDG&E
A11: Restoration (after) | B11: At the time service is restored to all customers | C11: When re-energization is complete | D11: 10/2/2026 at 15:41 PDT 10/4/2026 at 11:16 PDT | E11: • Timing of full restoration and EOC demobilization • Timing of post-event report | F11: SDG&E
A13: 1Decision 19-05-042, Appendix A, Timing of Notification.

Sheet Appendix 4
A1: =TOC!A2 -> Public Safety Power Shutoff Post-Event Report: October 2-October 4, 2026
A2: Appendix 4 – AFN Community Based Organization (CBO) Notifications: Descriptions, Dates, Times, and Copies of Notifications
A4: Event Order | B4: Type of Notification | C4: Timeline | D4: Date/Time Sent | E4: Description of Notification | F4: Who Made the Notification
A5: Pre-de- energization (prior) | B5: Initial Notice for PSPS Event | C5: 72 hours | D5: 9/30/2026 at 11:37 PDT | E5: SDG&E EOC activated; weather details and number of potentially impacted customers; link to SDG&E’s social media kit that includes PSPS Spanish and AFN content; contact information for customers to request services | F5: SDG&E
B6: Initial Notice for PSPS Event | C6: 72–48 hours | D6: 9/30/2026 at 14:33 PDT | F6: SDG&E
B7: Initial Notice for PSPS Event | C7: 48–24 hours | D7: 10/1/2026 at 10:36 PDT | F7: SDG&E
B8: Initial Notice for PSPS Event | C8: 1-4 Hours | D8: N/A | F8: SDG&E
A9: Initiation (during) and Restoration (after) | B9: De-energized | C9: When de-energization is initiated | D9: 10/2/2026 at 8:00 PDT | E9: Details of current PSPS outages; link to SDG&E’s PSPS web page and social media kit; contact information for customers to request services | F9: SDG&E
B10: Update | C10: As necessary | D10: 10/2/2026 at 9:04 PDT 10/2/2026 at 14:55 PDT 10/3/2026 at 17:01 PDT | F10: SDG&E
B11: At the time service is restored to all customers | C11: When re-energization is complete | D11: 10/4/2026 at 12:26 PDT | E11: Timing of full restoration and EOC demobilization | F11: SDG&E
